Workbook

Sheet Cuadrante
A1: Cuadrante de turnos
A2: Año | B2: 2026 | C2: Mes | D2: 11 | F2: Centro o departamento:
A3: Elige el año y el mes: los días y su letra (L M X J V S D) salen solos. Los turnos, en la hoja «Turnos».
A5: Empleado | B5: =IF(1<=DAY(EOMONTH(DATE($B$2,$D$2,1),0)),1,"") | C5: =IF(2<=DAY(EOMONTH(DATE($B$2,$D$2,1),0)),2,"") | D5: =IF(3<=DAY(EOMONTH(DATE($B$2,$D$2,1),0)),3,"") | E5: =IF(4<=DAY(EOMONTH(DATE($B$2,$D$2,1),0)),4,"") | F5: =IF(5<=DAY(EOMONTH(DATE($B$2,$D$2,1),0)),5,"") | G5: =IF(6<=DAY(EOMONTH(DATE($B$2,$D$2,1),0)),6,"") | H5: =IF(7<=DAY(EOMONTH(DATE($B$2,$D$2,1),0)),7,"") | I5: =IF(8<=DAY(EOMONTH(DATE($B$2,$D$2,1),0)),8,"") | J5: =IF(9<=DAY(EOMONTH(DATE($B$2,$D$2,1),0)),9,"") | K5: =IF(10<=DAY(EOMONTH(DATE($B$2,$D$2,1),0)),10,"") | L5: =IF(11<=DAY(EOMONTH(DATE($B$2,$D$2,1),0)),11,"") | M5: =IF(12<=DAY(EOMONTH(DATE($B$2,$D$2,1),0)),12,"") | N5: =IF(13<=DAY(EOMONTH(DATE($B$2,$D$2,1),0)),13,"") | O5: =IF(14<=DAY(EOMONTH(DATE($B$2,$D$2,1),0)),14,"") | P5: =IF(15<=DAY(EOMONTH(DATE($B$2,$D$2,1),0)),15,"") | Q5: =IF(16<=DAY(EOMONTH(DATE($B$2,$D$2,1),0)),16,"") | R5: =IF(17<=DAY(EOMONTH(DATE($B$2,$D$2,1),0)),17,"") | S5: =IF(18<=DAY(EOMONTH(DATE($B$2,$D$2,1),0)),18,"") | T5: =IF(19<=DAY(EOMONTH(DATE($B$2,$D$2,1),0)),19,"") | U5: =IF(20<=DAY(EOMONTH(DATE($B$2,$D$2,1),0)),20,"") | V5: =IF(21<=DAY(EOMONTH(DATE($B$2,$D$2,1),0)),21,"") | W5: =IF(22<=DAY(EOMONTH(DATE($B$2,$D$2,1),0)),22,"") | X5: =IF(23<=DAY(EOMONTH(DATE($B$2,$D$2,1),0)),23,"") | Y5: =IF(24<=DAY(EOMONTH(DATE($B$2,$D$2,1),0)),24,"") | Z5: =IF(25<=DAY(EOMONTH(DATE($B$2,$D$2,1),0)),25,"") | AA5: =IF(26<=DAY(EOMONTH(DATE($B$2,$D$2,1),0)),26,"") | AB5: =IF(27<=DAY(EOMONTH(DATE($B$2,$D$2,1),0)),27,"") | AC5: =IF(28<=DAY(EOMONTH(DATE($B$2,$D$2,1),0)),28,"") | AD5: =IF(29<=DAY(EOMONTH(DATE($B$2,$D$2,1),0)),29,"") | AE5: =IF(30<=DAY(EOMONTH(DATE($B$2,$D$2,1),0)),30,"") | AF5: =IF(31<=DAY(EOMONTH(DATE($B$2,$D$2,1),0)),31,"") | AG5: Horas | AH5: Noches
B6: =IF(B5="","",MID("LMXJVSD",WEEKDAY(DATE($B$2,$D$2,B5),2),1)) | C6: =IF(C5="","",MID("LMXJVSD",WEEKDAY(DATE($B$2,$D$2,C5),2),1)) | D6: =IF(D5="","",MID("LMXJVSD",WEEKDAY(DATE($B$2,$D$2,D5),2),1)) | E6: =IF(E5="","",MID("LMXJVSD",WEEKDAY(DATE($B$2,$D$2,E5),2),1)) | F6: =IF(F5="","",MID("LMXJVSD",WEEKDAY(DATE($B$2,$D$2,F5),2),1)) | G6: =IF(G5="","",MID("LMXJVSD",WEEKDAY(DATE($B$2,$D$2,G5),2),1)) | H6: =IF(H5="","",MID("LMXJVSD",WEEKDAY(DATE($B$2,$D$2,H5),2),1)) | I6: =IF(I5="","",MID("LMXJVSD",WEEKDAY(DATE($B$2,$D$2,I5),2),1)) | ... AF6: =IF(AF5="","",MID("LMXJVSD",WEEKDAY(DATE($B$2,$D$2,AF5),2),1))
AG7: =SUMPRODUCT(COUNTIF(B7:AF7,Turnos!$A$2:$A$13),Turnos!$D$2:$D$13) | AH7: =COUNTIF(B7:AF7,"N")
AG8: =SUMPRODUCT(COUNTIF(B8:AF8,Turnos!$A$2:$A$13),Turnos!$D$2:$D$13) | AH8: =COUNTIF(B8:AF8,"N")
AG9: =SUMPRODUCT(COUNTIF(B9:AF9,Turnos!$A$2:$A$13),Turnos!$D$2:$D$13) | AH9: =COUNTIF(B9:AF9,"N")
AG10: =SUMPRODUCT(COUNTIF(B10:AF10,Turnos!$A$2:$A$13),Turnos!$D$2:$D$13) | AH10: =COUNTIF(B10:AF10,"N")
AG11: =SUMPRODUCT(COUNTIF(B11:AF11,Turnos!$A$2:$A$13),Turnos!$D$2:$D$13) | AH11: =COUNTIF(B11:AF11,"N")
AG12: =SUMPRODUCT(COUNTIF(B12:AF12,Turnos!$A$2:$A$13),Turnos!$D$2:$D$13) | AH12: =COUNTIF(B12:AF12,"N")
AG13: =SUMPRODUCT(COUNTIF(B13:AF13,Turnos!$A$2:$A$13),Turnos!$D$2:$D$13) | AH13: =COUNTIF(B13:AF13,"N")
AG14: =SUMPRODUCT(COUNTIF(B14:AF14,Turnos!$A$2:$A$13),Turnos!$D$2:$D$13) | AH14: =COUNTIF(B14:AF14,"N")
AG15: =SUMPRODUCT(COUNTIF(B15:AF15,Turnos!$A$2:$A$13),Turnos!$D$2:$D$13) | AH15: =COUNTIF(B15:AF15,"N")
AG16: =SUMPRODUCT(COUNTIF(B16:AF16,Turnos!$A$2:$A$13),Turnos!$D$2:$D$13) | AH16: =COUNTIF(B16:AF16,"N")
AG17: =SUMPRODUCT(COUNTIF(B17:AF17,Turnos!$A$2:$A$13),Turnos!$D$2:$D$13) | AH17: =COUNTIF(B17:AF17,"N")
AG18: =SUMPRODUCT(COUNTIF(B18:AF18,Turnos!$A$2:$A$13),Turnos!$D$2:$D$13) | AH18: =COUNTIF(B18:AF18,"N")
... AG26: =SUMPRODUCT(COUNTIF(B26:AF26,Turnos!$A$2:$A$13),Turnos!$D$2:$D$13) | AH26: =COUNTIF(B26:AF26,"N")
A28: Cobertura del día
A29: Mañana (M) | B29: =IF(B$5="","",COUNTIF(B$7:B$26,"M")) | C29: =IF(C$5="","",COUNTIF(C$7:C$26,"M")) | D29: =IF(D$5="","",COUNTIF(D$7:D$26,"M")) | E29: =IF(E$5="","",COUNTIF(E$7:E$26,"M")) | F29: =IF(F$5="","",COUNTIF(F$7:F$26,"M")) | G29: =IF(G$5="","",COUNTIF(G$7:G$26,"M")) | H29: =IF(H$5="","",COUNTIF(H$7:H$26,"M")) | I29: =IF(I$5="","",COUNTIF(I$7:I$26,"M")) | ... AF29: =IF(AF$5="","",COUNTIF(AF$7:AF$26,"M"))
A30: Tarde (T) | B30: =IF(B$5="","",COUNTIF(B$7:B$26,"T")) | C30: =IF(C$5="","",COUNTIF(C$7:C$26,"T")) | D30: =IF(D$5="","",COUNTIF(D$7:D$26,"T")) | E30: =IF(E$5="","",COUNTIF(E$7:E$26,"T")) | F30: =IF(F$5="","",COUNTIF(F$7:F$26,"T")) | G30: =IF(G$5="","",COUNTIF(G$7:G$26,"T")) | H30: =IF(H$5="","",COUNTIF(H$7:H$26,"T")) | I30: =IF(I$5="","",COUNTIF(I$7:I$26,"T")) | ... AF30: =IF(AF$5="","",COUNTIF(AF$7:AF$26,"T"))
A31: Noche (N) | B31: =IF(B$5="","",COUNTIF(B$7:B$26,"N")) | C31: =IF(C$5="","",COUNTIF(C$7:C$26,"N")) | D31: =IF(D$5="","",COUNTIF(D$7:D$26,"N")) | E31: =IF(E$5="","",COUNTIF(E$7:E$26,"N")) | F31: =IF(F$5="","",COUNTIF(F$7:F$26,"N")) | G31: =IF(G$5="","",COUNTIF(G$7:G$26,"N")) | H31: =IF(H$5="","",COUNTIF(H$7:H$26,"N")) | I31: =IF(I$5="","",COUNTIF(I$7:I$26,"N")) | ... AF31: =IF(AF$5="","",COUNTIF(AF$7:AF$26,"N"))
A32: Partido (P) | B32: =IF(B$5="","",COUNTIF(B$7:B$26,"P")) | C32: =IF(C$5="","",COUNTIF(C$7:C$26,"P")) | D32: =IF(D$5="","",COUNTIF(D$7:D$26,"P")) | E32: =IF(E$5="","",COUNTIF(E$7:E$26,"P")) | F32: =IF(F$5="","",COUNTIF(F$7:F$26,"P")) | G32: =IF(G$5="","",COUNTIF(G$7:G$26,"P")) | H32: =IF(H$5="","",COUNTIF(H$7:H$26,"P")) | I32: =IF(I$5="","",COUNTIF(I$7:I$26,"P")) | ... AF32: =IF(AF$5="","",COUNTIF(AF$7:AF$26,"P"))
A34: Leyenda (se cambia en la hoja «Turnos»)
A35: M · Mañana · 06:00 a 14:00
A36: T · Tarde · 14:00 a 22:00
A37: N · Noche · 22:00 a 06:00
A38: P · Partido · 09:00 a 14:00 y 16:00 a 19:00
A39: L · Libre
A40: V · Vacaciones
A41: F · Festivo
A42: A · Ausencia

Sheet Turnos
A1: Código | B1: Turno | C1: Horario | D1: Horas
A2: M | B2: Mañana | C2: 06:00 a 14:00 | D2: 8
A3: T | B3: Tarde | C3: 14:00 a 22:00 | D3: 8
A4: N | B4: Noche | C4: 22:00 a 06:00 | D4: 8
A5: P | B5: Partido | C5: 09:00 a 14:00 y 16:00 a 19:00 | D5: 8
A6: L | B6: Libre | D6: 0
A7: V | B7: Vacaciones | D7: 0
A8: F | B8: Festivo | D8: 0
A9: A | B9: Ausencia | D9: 0
A15: Puedes cambiar los horarios y las horas, o añadir tus turnos en las filas vacías.

Sheet Cómo usarla
A1: Cómo usar esta plantilla
A2: 1. En la hoja «Cuadrante», escribe el año y el mes arriba. Los días del mes y su letra salen solos.
A3: 2. Escribe el nombre de cada persona en la columna A.
A4: 3. En cada día, elige su turno en el desplegable: M mañana, T tarde, N noche, P partido, L libre, V vacaciones, F festivo, A ausencia.
A5: 4. A la derecha se suman las horas y las noches de cada persona; abajo, cuántas personas hay en cada turno cada día.
A6: 5. Para cambiar un horario o añadir tus propios turnos, usa la hoja «Turnos»: el desplegable, los colores y las cuentas lo recogen.
A8: Antes de dar el cuadrante por bueno
A9: · Entre el final de una jornada y el comienzo de la siguiente tienen que pasar al menos doce horas (Estatuto de los Trabajadores, art. 34.3).
A10: · Cada persona tiene derecho a un descanso semanal de día y medio ininterrumpido, como regla general (art. 37.1).
A11: · Es trabajo nocturno el que se hace entre las diez de la noche y las seis de la mañana (art. 36.1).
A12: · Tu convenio puede tener reglas propias: compruébalo.
A14: Sin plantilla
A15: Con SatControl montas el cuadrante con plantillas de turno, lo imprimes en PDF y cada persona ve su turno en el móvil. Más en satcontrol.es/turnos/
