Workbook

Sheet Resumen
A1: Control de vacaciones 2027 | F1: Sin hojas ni recuentos a mano: pruébalo gratis en satcontrol.es
A2: Año | B2: 2027 | D2: Comunidad | E2: Toda España (solo las comunes)
A3: Escribe cada persona y los días que le corresponden. Las vacaciones se marcan en la hoja de cada mes (V, o M para medio día) y aquí se suman solas.
A5: Empleado | B5: Días que le corresponden | C5: Pendientes del año anterior | D5: Ene | E5: Feb | F5: Mar | G5: Abr | H5: May | I5: Jun | J5: Jul | K5: Ago | L5: Sep | M5: Oct | N5: Nov | O5: Dic | P5: Disfrutados | Q5: Le quedan | R5: Ausencias (días)
D6: ='Enero'!AG9 | E6: ='Febrero'!AG9 | F6: ='Marzo'!AG9 | G6: ='Abril'!AG9 | H6: ='Mayo'!AG9 | I6: ='Junio'!AG9 | J6: ='Julio'!AG9 | K6: ='Agosto'!AG9 | L6: ='Septiembre'!AG9 | M6: ='Octubre'!AG9 | N6: ='Noviembre'!AG9 | O6: ='Diciembre'!AG9 | P6: =IF(A6="","",SUM(D6:O6)) | Q6: =IF(A6="","",N(B6)+N(C6)-SUM(D6:O6)) | R6: =IF(A6="","",'Enero'!AH9+'Febrero'!AH9+'Marzo'!AH9+'Abril'!AH9+'Mayo'!AH9+'Junio'!AH9+'Julio'!AH9+'Agosto'!AH9+'Septiembre'!AH9+'Octubre'!AH9+'Noviembre'!AH9+'Diciembre'!AH9)
D7: ='Enero'!AG10 | E7: ='Febrero'!AG10 | F7: ='Marzo'!AG10 | G7: ='Abril'!AG10 | H7: ='Mayo'!AG10 | I7: ='Junio'!AG10 | J7: ='Julio'!AG10 | K7: ='Agosto'!AG10 | L7: ='Septiembre'!AG10 | M7: ='Octubre'!AG10 | N7: ='Noviembre'!AG10 | O7: ='Diciembre'!AG10 | P7: =IF(A7="","",SUM(D7:O7)) | Q7: =IF(A7="","",N(B7)+N(C7)-SUM(D7:O7)) | R7: =IF(A7="","",'Enero'!AH10+'Febrero'!AH10+'Marzo'!AH10+'Abril'!AH10+'Mayo'!AH10+'Junio'!AH10+'Julio'!AH10+'Agosto'!AH10+'Septiembre'!AH10+'Octubre'!AH10+'Noviembre'!AH10+'Diciembre'!AH10)
D8: ='Enero'!AG11 | E8: ='Febrero'!AG11 | F8: ='Marzo'!AG11 | G8: ='Abril'!AG11 | H8: ='Mayo'!AG11 | I8: ='Junio'!AG11 | J8: ='Julio'!AG11 | K8: ='Agosto'!AG11 | L8: ='Septiembre'!AG11 | M8: ='Octubre'!AG11 | N8: ='Noviembre'!AG11 | O8: ='Diciembre'!AG11 | P8: =IF(A8="","",SUM(D8:O8)) | Q8: =IF(A8="","",N(B8)+N(C8)-SUM(D8:O8)) | R8: =IF(A8="","",'Enero'!AH11+'Febrero'!AH11+'Marzo'!AH11+'Abril'!AH11+'Mayo'!AH11+'Junio'!AH11+'Julio'!AH11+'Agosto'!AH11+'Septiembre'!AH11+'Octubre'!AH11+'Noviembre'!AH11+'Diciembre'!AH11)
D9: ='Enero'!AG12 | E9: ='Febrero'!AG12 | F9: ='Marzo'!AG12 | G9: ='Abril'!AG12 | H9: ='Mayo'!AG12 | I9: ='Junio'!AG12 | J9: ='Julio'!AG12 | K9: ='Agosto'!AG12 | L9: ='Septiembre'!AG12 | M9: ='Octubre'!AG12 | N9: ='Noviembre'!AG12 | O9: ='Diciembre'!AG12 | P9: =IF(A9="","",SUM(D9:O9)) | Q9: =IF(A9="","",N(B9)+N(C9)-SUM(D9:O9)) | R9: =IF(A9="","",'Enero'!AH12+'Febrero'!AH12+'Marzo'!AH12+'Abril'!AH12+'Mayo'!AH12+'Junio'!AH12+'Julio'!AH12+'Agosto'!AH12+'Septiembre'!AH12+'Octubre'!AH12+'Noviembre'!AH12+'Diciembre'!AH12)
D10: ='Enero'!AG13 | E10: ='Febrero'!AG13 | F10: ='Marzo'!AG13 | G10: ='Abril'!AG13 | H10: ='Mayo'!AG13 | I10: ='Junio'!AG13 | J10: ='Julio'!AG13 | K10: ='Agosto'!AG13 | L10: ='Septiembre'!AG13 | M10: ='Octubre'!AG13 | N10: ='Noviembre'!AG13 | O10: ='Diciembre'!AG13 | P10: =IF(A10="","",SUM(D10:O10)) | Q10: =IF(A10="","",N(B10)+N(C10)-SUM(D10:O10)) | R10: =IF(A10="","",'Enero'!AH13+'Febrero'!AH13+'Marzo'!AH13+'Abril'!AH13+'Mayo'!AH13+'Junio'!AH13+'Julio'!AH13+'Agosto'!AH13+'Septiembre'!AH13+'Octubre'!AH13+'Noviembre'!AH13+'Diciembre'!AH13)
D11: ='Enero'!AG14 | E11: ='Febrero'!AG14 | F11: ='Marzo'!AG14 | G11: ='Abril'!AG14 | H11: ='Mayo'!AG14 | I11: ='Junio'!AG14 | J11: ='Julio'!AG14 | K11: ='Agosto'!AG14 | L11: ='Septiembre'!AG14 | M11: ='Octubre'!AG14 | N11: ='Noviembre'!AG14 | O11: ='Diciembre'!AG14 | P11: =IF(A11="","",SUM(D11:O11)) | Q11: =IF(A11="","",N(B11)+N(C11)-SUM(D11:O11)) | R11: =IF(A11="","",'Enero'!AH14+'Febrero'!AH14+'Marzo'!AH14+'Abril'!AH14+'Mayo'!AH14+'Junio'!AH14+'Julio'!AH14+'Agosto'!AH14+'Septiembre'!AH14+'Octubre'!AH14+'Noviembre'!AH14+'Diciembre'!AH14)
D12: ='Enero'!AG15 | E12: ='Febrero'!AG15 | F12: ='Marzo'!AG15 | G12: ='Abril'!AG15 | H12: ='Mayo'!AG15 | I12: ='Junio'!AG15 | J12: ='Julio'!AG15 | K12: ='Agosto'!AG15 | L12: ='Septiembre'!AG15 | M12: ='Octubre'!AG15 | N12: ='Noviembre'!AG15 | O12: ='Diciembre'!AG15 | P12: =IF(A12="","",SUM(D12:O12)) | Q12: =IF(A12="","",N(B12)+N(C12)-SUM(D12:O12)) | R12: =IF(A12="","",'Enero'!AH15+'Febrero'!AH15+'Marzo'!AH15+'Abril'!AH15+'Mayo'!AH15+'Junio'!AH15+'Julio'!AH15+'Agosto'!AH15+'Septiembre'!AH15+'Octubre'!AH15+'Noviembre'!AH15+'Diciembre'!AH15)
D13: ='Enero'!AG16 | E13: ='Febrero'!AG16 | F13: ='Marzo'!AG16 | G13: ='Abril'!AG16 | H13: ='Mayo'!AG16 | I13: ='Junio'!AG16 | J13: ='Julio'!AG16 | K13: ='Agosto'!AG16 | L13: ='Septiembre'!AG16 | M13: ='Octubre'!AG16 | N13: ='Noviembre'!AG16 | O13: ='Diciembre'!AG16 | P13: =IF(A13="","",SUM(D13:O13)) | Q13: =IF(A13="","",N(B13)+N(C13)-SUM(D13:O13)) | R13: =IF(A13="","",'Enero'!AH16+'Febrero'!AH16+'Marzo'!AH16+'Abril'!AH16+'Mayo'!AH16+'Junio'!AH16+'Julio'!AH16+'Agosto'!AH16+'Septiembre'!AH16+'Octubre'!AH16+'Noviembre'!AH16+'Diciembre'!AH16)
D14: ='Enero'!AG17 | E14: ='Febrero'!AG17 | F14: ='Marzo'!AG17 | G14: ='Abril'!AG17 | H14: ='Mayo'!AG17 | I14: ='Junio'!AG17 | J14: ='Julio'!AG17 | K14: ='Agosto'!AG17 | L14: ='Septiembre'!AG17 | M14: ='Octubre'!AG17 | N14: ='Noviembre'!AG17 | O14: ='Diciembre'!AG17 | P14: =IF(A14="","",SUM(D14:O14)) | Q14: =IF(A14="","",N(B14)+N(C14)-SUM(D14:O14)) | R14: =IF(A14="","",'Enero'!AH17+'Febrero'!AH17+'Marzo'!AH17+'Abril'!AH17+'Mayo'!AH17+'Junio'!AH17+'Julio'!AH17+'Agosto'!AH17+'Septiembre'!AH17+'Octubre'!AH17+'Noviembre'!AH17+'Diciembre'!AH17)
D15: ='Enero'!AG18 | E15: ='Febrero'!AG18 | F15: ='Marzo'!AG18 | G15: ='Abril'!AG18 | H15: ='Mayo'!AG18 | I15: ='Junio'!AG18 | J15: ='Julio'!AG18 | K15: ='Agosto'!AG18 | L15: ='Septiembre'!AG18 | M15: ='Octubre'!AG18 | N15: ='Noviembre'!AG18 | O15: ='Diciembre'!AG18 | P15: =IF(A15="","",SUM(D15:O15)) | Q15: =IF(A15="","",N(B15)+N(C15)-SUM(D15:O15)) | R15: =IF(A15="","",'Enero'!AH18+'Febrero'!AH18+'Marzo'!AH18+'Abril'!AH18+'Mayo'!AH18+'Junio'!AH18+'Julio'!AH18+'Agosto'!AH18+'Septiembre'!AH18+'Octubre'!AH18+'Noviembre'!AH18+'Diciembre'!AH18)
D16: ='Enero'!AG19 | E16: ='Febrero'!AG19 | F16: ='Marzo'!AG19 | G16: ='Abril'!AG19 | H16: ='Mayo'!AG19 | I16: ='Junio'!AG19 | J16: ='Julio'!AG19 | K16: ='Agosto'!AG19 | L16: ='Septiembre'!AG19 | M16: ='Octubre'!AG19 | N16: ='Noviembre'!AG19 | O16: ='Diciembre'!AG19 | P16: =IF(A16="","",SUM(D16:O16)) | Q16: =IF(A16="","",N(B16)+N(C16)-SUM(D16:O16)) | R16: =IF(A16="","",'Enero'!AH19+'Febrero'!AH19+'Marzo'!AH19+'Abril'!AH19+'Mayo'!AH19+'Junio'!AH19+'Julio'!AH19+'Agosto'!AH19+'Septiembre'!AH19+'Octubre'!AH19+'Noviembre'!AH19+'Diciembre'!AH19)
D17: ='Enero'!AG20 | E17: ='Febrero'!AG20 | F17: ='Marzo'!AG20 | G17: ='Abril'!AG20 | H17: ='Mayo'!AG20 | I17: ='Junio'!AG20 | J17: ='Julio'!AG20 | K17: ='Agosto'!AG20 | L17: ='Septiembre'!AG20 | M17: ='Octubre'!AG20 | N17: ='Noviembre'!AG20 | O17: ='Diciembre'!AG20 | P17: =IF(A17="","",SUM(D17:O17)) | Q17: =IF(A17="","",N(B17)+N(C17)-SUM(D17:O17)) | R17: =IF(A17="","",'Enero'!AH20+'Febrero'!AH20+'Marzo'!AH20+'Abril'!AH20+'Mayo'!AH20+'Junio'!AH20+'Julio'!AH20+'Agosto'!AH20+'Septiembre'!AH20+'Octubre'!AH20+'Noviembre'!AH20+'Diciembre'!AH20)
... D45: ='Enero'!AG48 | E45: ='Febrero'!AG48 | F45: ='Marzo'!AG48 | G45: ='Abril'!AG48 | H45: ='Mayo'!AG48 | I45: ='Junio'!AG48 | J45: ='Julio'!AG48 | K45: ='Agosto'!AG48 | L45: ='Septiembre'!AG48 | M45: ='Octubre'!AG48 | N45: ='Noviembre'!AG48 | O45: ='Diciembre'!AG48 | P45: =IF(A45="","",SUM(D45:O45)) | Q45: =IF(A45="","",N(B45)+N(C45)-SUM(D45:O45)) | R45: =IF(A45="","",'Enero'!AH48+'Febrero'!AH48+'Marzo'!AH48+'Abril'!AH48+'Mayo'!AH48+'Junio'!AH48+'Julio'!AH48+'Agosto'!AH48+'Septiembre'!AH48+'Octubre'!AH48+'Noviembre'!AH48+'Diciembre'!AH48)

Sheet Enero
A1: ="Enero "&Resumen!$B$2 | N1: Las vacaciones de todos, sin cruzar correos: pruébalo gratis en satcontrol.es
A2: Festivos de: | B2: =Resumen!$E$2
A3: Marca en cada día: V vacaciones · M medio día de vacaciones · P permiso retribuido · B baja médica · A otra ausencia. Los nombres salen de «Resumen».
A5: Empleado | B5: =IF(1<=DAY(EOMONTH(DATE(Resumen!$B$2,1,1),0)),1,"") | C5: =IF(2<=DAY(EOMONTH(DATE(Resumen!$B$2,1,1),0)),2,"") | D5: =IF(3<=DAY(EOMONTH(DATE(Resumen!$B$2,1,1),0)),3,"") | E5: =IF(4<=DAY(EOMONTH(DATE(Resumen!$B$2,1,1),0)),4,"") | F5: =IF(5<=DAY(EOMONTH(DATE(Resumen!$B$2,1,1),0)),5,"") | G5: =IF(6<=DAY(EOMONTH(DATE(Resumen!$B$2,1,1),0)),6,"") | H5: =IF(7<=DAY(EOMONTH(DATE(Resumen!$B$2,1,1),0)),7,"") | I5: =IF(8<=DAY(EOMONTH(DATE(Resumen!$B$2,1,1),0)),8,"") | J5: =IF(9<=DAY(EOMONTH(DATE(Resumen!$B$2,1,1),0)),9,"") | K5: =IF(10<=DAY(EOMONTH(DATE(Resumen!$B$2,1,1),0)),10,"") | L5: =IF(11<=DAY(EOMONTH(DATE(Resumen!$B$2,1,1),0)),11,"") | M5: =IF(12<=DAY(EOMONTH(DATE(Resumen!$B$2,1,1),0)),12,"") | N5: =IF(13<=DAY(EOMONTH(DATE(Resumen!$B$2,1,1),0)),13,"") | O5: =IF(14<=DAY(EOMONTH(DATE(Resumen!$B$2,1,1),0)),14,"") | P5: =IF(15<=DAY(EOMONTH(DATE(Resumen!$B$2,1,1),0)),15,"") | Q5: =IF(16<=DAY(EOMONTH(DATE(Resumen!$B$2,1,1),0)),16,"") | R5: =IF(17<=DAY(EOMONTH(DATE(Resumen!$B$2,1,1),0)),17,"") | S5: =IF(18<=DAY(EOMONTH(DATE(Resumen!$B$2,1,1),0)),18,"") | T5: =IF(19<=DAY(EOMONTH(DATE(Resumen!$B$2,1,1),0)),19,"") | U5: =IF(20<=DAY(EOMONTH(DATE(Resumen!$B$2,1,1),0)),20,"") | V5: =IF(21<=DAY(EOMONTH(DATE(Resumen!$B$2,1,1),0)),21,"") | W5: =IF(22<=DAY(EOMONTH(DATE(Resumen!$B$2,1,1),0)),22,"") | X5: =IF(23<=DAY(EOMONTH(DATE(Resumen!$B$2,1,1),0)),23,"") | Y5: =IF(24<=DAY(EOMONTH(DATE(Resumen!$B$2,1,1),0)),24,"") | Z5: =IF(25<=DAY(EOMONTH(DATE(Resumen!$B$2,1,1),0)),25,"") | AA5: =IF(26<=DAY(EOMONTH(DATE(Resumen!$B$2,1,1),0)),26,"") | AB5: =IF(27<=DAY(EOMONTH(DATE(Resumen!$B$2,1,1),0)),27,"") | AC5: =IF(28<=DAY(EOMONTH(DATE(Resumen!$B$2,1,1),0)),28,"") | AD5: =IF(29<=DAY(EOMONTH(DATE(Resumen!$B$2,1,1),0)),29,"") | AE5: =IF(30<=DAY(EOMONTH(DATE(Resumen!$B$2,1,1),0)),30,"") | AF5: =IF(31<=DAY(EOMONTH(DATE(Resumen!$B$2,1,1),0)),31,"") | AG5: Vacaciones | AH5: Ausencias
B6: =IF(B$5="","",MID("LMXJVSD",WEEKDAY(DATE(Resumen!$B$2,1,B$5),2),1)) | C6: =IF(C$5="","",MID("LMXJVSD",WEEKDAY(DATE(Resumen!$B$2,1,C$5),2),1)) | D6: =IF(D$5="","",MID("LMXJVSD",WEEKDAY(DATE(Resumen!$B$2,1,D$5),2),1)) | E6: =IF(E$5="","",MID("LMXJVSD",WEEKDAY(DATE(Resumen!$B$2,1,E$5),2),1)) | F6: =IF(F$5="","",MID("LMXJVSD",WEEKDAY(DATE(Resumen!$B$2,1,F$5),2),1)) | G6: =IF(G$5="","",MID("LMXJVSD",WEEKDAY(DATE(Resumen!$B$2,1,G$5),2),1)) | H6: =IF(H$5="","",MID("LMXJVSD",WEEKDAY(DATE(Resumen!$B$2,1,H$5),2),1)) | I6: =IF(I$5="","",MID("LMXJVSD",WEEKDAY(DATE(Resumen!$B$2,1,I$5),2),1)) | ... AF6: =IF(AF$5="","",MID("LMXJVSD",WEEKDAY(DATE(Resumen!$B$2,1,AF$5),2),1))
A7: Festivo | B7: =IF(B$5="","",IF(COUNTIFS(Festivos!$A$5:$A$239,Resumen!$E$2,Festivos!$B$5:$B$239,DATE(Resumen!$B$2,1,B$5))+COUNTIF(Festivos!$E$5:$E$24,DATE(Resumen!$B$2,1,B$5))>0,"F","")) | C7: =IF(C$5="","",IF(COUNTIFS(Festivos!$A$5:$A$239,Resumen!$E$2,Festivos!$B$5:$B$239,DATE(Resumen!$B$2,1,C$5))+COUNTIF(Festivos!$E$5:$E$24,DATE(Resumen!$B$2,1,C$5))>0,"F","")) | D7: =IF(D$5="","",IF(COUNTIFS(Festivos!$A$5:$A$239,Resumen!$E$2,Festivos!$B$5:$B$239,DATE(Resumen!$B$2,1,D$5))+COUNTIF(Festivos!$E$5:$E$24,DATE(Resumen!$B$2,1,D$5))>0,"F","")) | E7: =IF(E$5="","",IF(COUNTIFS(Festivos!$A$5:$A$239,Resumen!$E$2,Festivos!$B$5:$B$239,DATE(Resumen!$B$2,1,E$5))+COUNTIF(Festivos!$E$5:$E$24,DATE(Resumen!$B$2,1,E$5))>0,"F","")) | F7: =IF(F$5="","",IF(COUNTIFS(Festivos!$A$5:$A$239,Resumen!$E$2,Festivos!$B$5:$B$239,DATE(Resumen!$B$2,1,F$5))+COUNTIF(Festivos!$E$5:$E$24,DATE(Resumen!$B$2,1,F$5))>0,"F","")) | G7: =IF(G$5="","",IF(COUNTIFS(Festivos!$A$5:$A$239,Resumen!$E$2,Festivos!$B$5:$B$239,DATE(Resumen!$B$2,1,G$5))+COUNTIF(Festivos!$E$5:$E$24,DATE(Resumen!$B$2,1,G$5))>0,"F","")) | H7: =IF(H$5="","",IF(COUNTIFS(Festivos!$A$5:$A$239,Resumen!$E$2,Festivos!$B$5:$B$239,DATE(Resumen!$B$2,1,H$5))+COUNTIF(Festivos!$E$5:$E$24,DATE(Resumen!$B$2,1,H$5))>0,"F","")) | I7: =IF(I$5="","",IF(COUNTIFS(Festivos!$A$5:$A$239,Resumen!$E$2,Festivos!$B$5:$B$239,DATE(Resumen!$B$2,1,I$5))+COUNTIF(Festivos!$E$5:$E$24,DATE(Resumen!$B$2,1,I$5))>0,"F","")) | ... AF7: =IF(AF$5="","",IF(COUNTIFS(Festivos!$A$5:$A$239,Resumen!$E$2,Festivos!$B$5:$B$239,DATE(Resumen!$B$2,1,AF$5))+COUNTIF(Festivos!$E$5:$E$24,DATE(Resumen!$B$2,1,AF$5))>0,"F",""))
A9: =IF(Resumen!$A6="","",Resumen!$A6) | AG9: =COUNTIF(B9:AF9,"V")+COUNTIF(B9:AF9,"M")*0.5 | AH9: =COUNTIF(B9:AF9,"P")+COUNTIF(B9:AF9,"B")+COUNTIF(B9:AF9,"A")
A10: =IF(Resumen!$A7="","",Resumen!$A7) | AG10: =COUNTIF(B10:AF10,"V")+COUNTIF(B10:AF10,"M")*0.5 | AH10: =COUNTIF(B10:AF10,"P")+COUNTIF(B10:AF10,"B")+COUNTIF(B10:AF10,"A")
A11: =IF(Resumen!$A8="","",Resumen!$A8) | AG11: =COUNTIF(B11:AF11,"V")+COUNTIF(B11:AF11,"M")*0.5 | AH11: =COUNTIF(B11:AF11,"P")+COUNTIF(B11:AF11,"B")+COUNTIF(B11:AF11,"A")
A12: =IF(Resumen!$A9="","",Resumen!$A9) | AG12: =COUNTIF(B12:AF12,"V")+COUNTIF(B12:AF12,"M")*0.5 | AH12: =COUNTIF(B12:AF12,"P")+COUNTIF(B12:AF12,"B")+COUNTIF(B12:AF12,"A")
A13: =IF(Resumen!$A10="","",Resumen!$A10) | AG13: =COUNTIF(B13:AF13,"V")+COUNTIF(B13:AF13,"M")*0.5 | AH13: =COUNTIF(B13:AF13,"P")+COUNTIF(B13:AF13,"B")+COUNTIF(B13:AF13,"A")
A14: =IF(Resumen!$A11="","",Resumen!$A11) | AG14: =COUNTIF(B14:AF14,"V")+COUNTIF(B14:AF14,"M")*0.5 | AH14: =COUNTIF(B14:AF14,"P")+COUNTIF(B14:AF14,"B")+COUNTIF(B14:AF14,"A")
A15: =IF(Resumen!$A12="","",Resumen!$A12) | AG15: =COUNTIF(B15:AF15,"V")+COUNTIF(B15:AF15,"M")*0.5 | AH15: =COUNTIF(B15:AF15,"P")+COUNTIF(B15:AF15,"B")+COUNTIF(B15:AF15,"A")
A16: =IF(Resumen!$A13="","",Resumen!$A13) | AG16: =COUNTIF(B16:AF16,"V")+COUNTIF(B16:AF16,"M")*0.5 | AH16: =COUNTIF(B16:AF16,"P")+COUNTIF(B16:AF16,"B")+COUNTIF(B16:AF16,"A")
A17: =IF(Resumen!$A14="","",Resumen!$A14) | AG17: =COUNTIF(B17:AF17,"V")+COUNTIF(B17:AF17,"M")*0.5 | AH17: =COUNTIF(B17:AF17,"P")+COUNTIF(B17:AF17,"B")+COUNTIF(B17:AF17,"A")
A18: =IF(Resumen!$A15="","",Resumen!$A15) | AG18: =COUNTIF(B18:AF18,"V")+COUNTIF(B18:AF18,"M")*0.5 | AH18: =COUNTIF(B18:AF18,"P")+COUNTIF(B18:AF18,"B")+COUNTIF(B18:AF18,"A")
A19: =IF(Resumen!$A16="","",Resumen!$A16) | AG19: =COUNTIF(B19:AF19,"V")+COUNTIF(B19:AF19,"M")*0.5 | AH19: =COUNTIF(B19:AF19,"P")+COUNTIF(B19:AF19,"B")+COUNTIF(B19:AF19,"A")
A20: =IF(Resumen!$A17="","",Resumen!$A17) | AG20: =COUNTIF(B20:AF20,"V")+COUNTIF(B20:AF20,"M")*0.5 | AH20: =COUNTIF(B20:AF20,"P")+COUNTIF(B20:AF20,"B")+COUNTIF(B20:AF20,"A")
... A48: =IF(Resumen!$A45="","",Resumen!$A45) | AG48: =COUNTIF(B48:AF48,"V")+COUNTIF(B48:AF48,"M")*0.5 | AH48: =COUNTIF(B48:AF48,"P")+COUNTIF(B48:AF48,"B")+COUNTIF(B48:AF48,"A")
A50: Faltan ese día | B50: =IF(B$5="","",COUNTIF(B$9:B$48,"?*")) | C50: =IF(C$5="","",COUNTIF(C$9:C$48,"?*")) | D50: =IF(D$5="","",COUNTIF(D$9:D$48,"?*")) | E50: =IF(E$5="","",COUNTIF(E$9:E$48,"?*")) | F50: =IF(F$5="","",COUNTIF(F$9:F$48,"?*")) | G50: =IF(G$5="","",COUNTIF(G$9:G$48,"?*")) | H50: =IF(H$5="","",COUNTIF(H$9:H$48,"?*")) | I50: =IF(I$5="","",COUNTIF(I$9:I$48,"?*")) | ... AF50: =IF(AF$5="","",COUNTIF(AF$9:AF$48,"?*"))
A51: Están ese día | B51: =IF(B$5="","",COUNTIF($A$9:$A$48,"?*")-B50) | C51: =IF(C$5="","",COUNTIF($A$9:$A$48,"?*")-C50) | D51: =IF(D$5="","",COUNTIF($A$9:$A$48,"?*")-D50) | E51: =IF(E$5="","",COUNTIF($A$9:$A$48,"?*")-E50) | F51: =IF(F$5="","",COUNTIF($A$9:$A$48,"?*")-F50) | G51: =IF(G$5="","",COUNTIF($A$9:$A$48,"?*")-G50) | H51: =IF(H$5="","",COUNTIF($A$9:$A$48,"?*")-H50) | I51: =IF(I$5="","",COUNTIF($A$9:$A$48,"?*")-I50) | ... AF51: =IF(AF$5="","",COUNTIF($A$9:$A$48,"?*")-AF50)
A53: Leyenda
A54: V · Vacaciones
A55: M · Medio día de vacaciones
A56: P · Permiso retribuido
A57: B · Baja médica
A58: A · Otra ausencia
A59: Festivo
A60: Sábado y domingo

Sheet Febrero
A1: ="Febrero "&Resumen!$B$2 | N1: Las vacaciones de todos, sin cruzar correos: pruébalo gratis en satcontrol.es
A2: Festivos de: | B2: =Resumen!$E$2
A3: Marca en cada día: V vacaciones · M medio día de vacaciones · P permiso retribuido · B baja médica · A otra ausencia. Los nombres salen de «Resumen».
A5: Empleado | B5: =IF(1<=DAY(EOMONTH(DATE(Resumen!$B$2,2,1),0)),1,"") | C5: =IF(2<=DAY(EOMONTH(DATE(Resumen!$B$2,2,1),0)),2,"") | D5: =IF(3<=DAY(EOMONTH(DATE(Resumen!$B$2,2,1),0)),3,"") | E5: =IF(4<=DAY(EOMONTH(DATE(Resumen!$B$2,2,1),0)),4,"") | F5: =IF(5<=DAY(EOMONTH(DATE(Resumen!$B$2,2,1),0)),5,"") | G5: =IF(6<=DAY(EOMONTH(DATE(Resumen!$B$2,2,1),0)),6,"") | H5: =IF(7<=DAY(EOMONTH(DATE(Resumen!$B$2,2,1),0)),7,"") | I5: =IF(8<=DAY(EOMONTH(DATE(Resumen!$B$2,2,1),0)),8,"") | J5: =IF(9<=DAY(EOMONTH(DATE(Resumen!$B$2,2,1),0)),9,"") | K5: =IF(10<=DAY(EOMONTH(DATE(Resumen!$B$2,2,1),0)),10,"") | L5: =IF(11<=DAY(EOMONTH(DATE(Resumen!$B$2,2,1),0)),11,"") | M5: =IF(12<=DAY(EOMONTH(DATE(Resumen!$B$2,2,1),0)),12,"") | N5: =IF(13<=DAY(EOMONTH(DATE(Resumen!$B$2,2,1),0)),13,"") | O5: =IF(14<=DAY(EOMONTH(DATE(Resumen!$B$2,2,1),0)),14,"") | P5: =IF(15<=DAY(EOMONTH(DATE(Resumen!$B$2,2,1),0)),15,"") | Q5: =IF(16<=DAY(EOMONTH(DATE(Resumen!$B$2,2,1),0)),16,"") | R5: =IF(17<=DAY(EOMONTH(DATE(Resumen!$B$2,2,1),0)),17,"") | S5: =IF(18<=DAY(EOMONTH(DATE(Resumen!$B$2,2,1),0)),18,"") | T5: =IF(19<=DAY(EOMONTH(DATE(Resumen!$B$2,2,1),0)),19,"") | U5: =IF(20<=DAY(EOMONTH(DATE(Resumen!$B$2,2,1),0)),20,"") | V5: =IF(21<=DAY(EOMONTH(DATE(Resumen!$B$2,2,1),0)),21,"") | W5: =IF(22<=DAY(EOMONTH(DATE(Resumen!$B$2,2,1),0)),22,"") | X5: =IF(23<=DAY(EOMONTH(DATE(Resumen!$B$2,2,1),0)),23,"") | Y5: =IF(24<=DAY(EOMONTH(DATE(Resumen!$B$2,2,1),0)),24,"") | Z5: =IF(25<=DAY(EOMONTH(DATE(Resumen!$B$2,2,1),0)),25,"") | AA5: =IF(26<=DAY(EOMONTH(DATE(Resumen!$B$2,2,1),0)),26,"") | AB5: =IF(27<=DAY(EOMONTH(DATE(Resumen!$B$2,2,1),0)),27,"") | AC5: =IF(28<=DAY(EOMONTH(DATE(Resumen!$B$2,2,1),0)),28,"") | AD5: =IF(29<=DAY(EOMONTH(DATE(Resumen!$B$2,2,1),0)),29,"") | AE5: =IF(30<=DAY(EOMONTH(DATE(Resumen!$B$2,2,1),0)),30,"") | AF5: =IF(31<=DAY(EOMONTH(DATE(Resumen!$B$2,2,1),0)),31,"") | AG5: Vacaciones | AH5: Ausencias
B6: =IF(B$5="","",MID("LMXJVSD",WEEKDAY(DATE(Resumen!$B$2,2,B$5),2),1)) | C6: =IF(C$5="","",MID("LMXJVSD",WEEKDAY(DATE(Resumen!$B$2,2,C$5),2),1)) | D6: =IF(D$5="","",MID("LMXJVSD",WEEKDAY(DATE(Resumen!$B$2,2,D$5),2),1)) | E6: =IF(E$5="","",MID("LMXJVSD",WEEKDAY(DATE(Resumen!$B$2,2,E$5),2),1)) | F6: =IF(F$5="","",MID("LMXJVSD",WEEKDAY(DATE(Resumen!$B$2,2,F$5),2),1)) | G6: =IF(G$5="","",MID("LMXJVSD",WEEKDAY(DATE(Resumen!$B$2,2,G$5),2),1)) | H6: =IF(H$5="","",MID("LMXJVSD",WEEKDAY(DATE(Resumen!$B$2,2,H$5),2),1)) | I6: =IF(I$5="","",MID("LMXJVSD",WEEKDAY(DATE(Resumen!$B$2,2,I$5),2),1)) | ... AF6: =IF(AF$5="","",MID("LMXJVSD",WEEKDAY(DATE(Resumen!$B$2,2,AF$5),2),1))
A7: Festivo | B7: =IF(B$5="","",IF(COUNTIFS(Festivos!$A$5:$A$239,Resumen!$E$2,Festivos!$B$5:$B$239,DATE(Resumen!$B$2,2,B$5))+COUNTIF(Festivos!$E$5:$E$24,DATE(Resumen!$B$2,2,B$5))>0,"F","")) | C7: =IF(C$5="","",IF(COUNTIFS(Festivos!$A$5:$A$239,Resumen!$E$2,Festivos!$B$5:$B$239,DATE(Resumen!$B$2,2,C$5))+COUNTIF(Festivos!$E$5:$E$24,DATE(Resumen!$B$2,2,C$5))>0,"F","")) | D7: =IF(D$5="","",IF(COUNTIFS(Festivos!$A$5:$A$239,Resumen!$E$2,Festivos!$B$5:$B$239,DATE(Resumen!$B$2,2,D$5))+COUNTIF(Festivos!$E$5:$E$24,DATE(Resumen!$B$2,2,D$5))>0,"F","")) | E7: =IF(E$5="","",IF(COUNTIFS(Festivos!$A$5:$A$239,Resumen!$E$2,Festivos!$B$5:$B$239,DATE(Resumen!$B$2,2,E$5))+COUNTIF(Festivos!$E$5:$E$24,DATE(Resumen!$B$2,2,E$5))>0,"F","")) | F7: =IF(F$5="","",IF(COUNTIFS(Festivos!$A$5:$A$239,Resumen!$E$2,Festivos!$B$5:$B$239,DATE(Resumen!$B$2,2,F$5))+COUNTIF(Festivos!$E$5:$E$24,DATE(Resumen!$B$2,2,F$5))>0,"F","")) | G7: =IF(G$5="","",IF(COUNTIFS(Festivos!$A$5:$A$239,Resumen!$E$2,Festivos!$B$5:$B$239,DATE(Resumen!$B$2,2,G$5))+COUNTIF(Festivos!$E$5:$E$24,DATE(Resumen!$B$2,2,G$5))>0,"F","")) | H7: =IF(H$5="","",IF(COUNTIFS(Festivos!$A$5:$A$239,Resumen!$E$2,Festivos!$B$5:$B$239,DATE(Resumen!$B$2,2,H$5))+COUNTIF(Festivos!$E$5:$E$24,DATE(Resumen!$B$2,2,H$5))>0,"F","")) | I7: =IF(I$5="","",IF(COUNTIFS(Festivos!$A$5:$A$239,Resumen!$E$2,Festivos!$B$5:$B$239,DATE(Resumen!$B$2,2,I$5))+COUNTIF(Festivos!$E$5:$E$24,DATE(Resumen!$B$2,2,I$5))>0,"F","")) | ... AF7: =IF(AF$5="","",IF(COUNTIFS(Festivos!$A$5:$A$239,Resumen!$E$2,Festivos!$B$5:$B$239,DATE(Resumen!$B$2,2,AF$5))+COUNTIF(Festivos!$E$5:$E$24,DATE(Resumen!$B$2,2,AF$5))>0,"F",""))
A9: =IF(Resumen!$A6="","",Resumen!$A6) | AG9: =COUNTIF(B9:AF9,"V")+COUNTIF(B9:AF9,"M")*0.5 | AH9: =COUNTIF(B9:AF9,"P")+COUNTIF(B9:AF9,"B")+COUNTIF(B9:AF9,"A")
A10: =IF(Resumen!$A7="","",Resumen!$A7) | AG10: =COUNTIF(B10:AF10,"V")+COUNTIF(B10:AF10,"M")*0.5 | AH10: =COUNTIF(B10:AF10,"P")+COUNTIF(B10:AF10,"B")+COUNTIF(B10:AF10,"A")
A11: =IF(Resumen!$A8="","",Resumen!$A8) | AG11: =COUNTIF(B11:AF11,"V")+COUNTIF(B11:AF11,"M")*0.5 | AH11: =COUNTIF(B11:AF11,"P")+COUNTIF(B11:AF11,"B")+COUNTIF(B11:AF11,"A")
A12: =IF(Resumen!$A9="","",Resumen!$A9) | AG12: =COUNTIF(B12:AF12,"V")+COUNTIF(B12:AF12,"M")*0.5 | AH12: =COUNTIF(B12:AF12,"P")+COUNTIF(B12:AF12,"B")+COUNTIF(B12:AF12,"A")
A13: =IF(Resumen!$A10="","",Resumen!$A10) | AG13: =COUNTIF(B13:AF13,"V")+COUNTIF(B13:AF13,"M")*0.5 | AH13: =COUNTIF(B13:AF13,"P")+COUNTIF(B13:AF13,"B")+COUNTIF(B13:AF13,"A")
A14: =IF(Resumen!$A11="","",Resumen!$A11) | AG14: =COUNTIF(B14:AF14,"V")+COUNTIF(B14:AF14,"M")*0.5 | AH14: =COUNTIF(B14:AF14,"P")+COUNTIF(B14:AF14,"B")+COUNTIF(B14:AF14,"A")
A15: =IF(Resumen!$A12="","",Resumen!$A12) | AG15: =COUNTIF(B15:AF15,"V")+COUNTIF(B15:AF15,"M")*0.5 | AH15: =COUNTIF(B15:AF15,"P")+COUNTIF(B15:AF15,"B")+COUNTIF(B15:AF15,"A")
A16: =IF(Resumen!$A13="","",Resumen!$A13) | AG16: =COUNTIF(B16:AF16,"V")+COUNTIF(B16:AF16,"M")*0.5 | AH16: =COUNTIF(B16:AF16,"P")+COUNTIF(B16:AF16,"B")+COUNTIF(B16:AF16,"A")
A17: =IF(Resumen!$A14="","",Resumen!$A14) | AG17: =COUNTIF(B17:AF17,"V")+COUNTIF(B17:AF17,"M")*0.5 | AH17: =COUNTIF(B17:AF17,"P")+COUNTIF(B17:AF17,"B")+COUNTIF(B17:AF17,"A")
A18: =IF(Resumen!$A15="","",Resumen!$A15) | AG18: =COUNTIF(B18:AF18,"V")+COUNTIF(B18:AF18,"M")*0.5 | AH18: =COUNTIF(B18:AF18,"P")+COUNTIF(B18:AF18,"B")+COUNTIF(B18:AF18,"A")
A19: =IF(Resumen!$A16="","",Resumen!$A16) | AG19: =COUNTIF(B19:AF19,"V")+COUNTIF(B19:AF19,"M")*0.5 | AH19: =COUNTIF(B19:AF19,"P")+COUNTIF(B19:AF19,"B")+COUNTIF(B19:AF19,"A")
A20: =IF(Resumen!$A17="","",Resumen!$A17) | AG20: =COUNTIF(B20:AF20,"V")+COUNTIF(B20:AF20,"M")*0.5 | AH20: =COUNTIF(B20:AF20,"P")+COUNTIF(B20:AF20,"B")+COUNTIF(B20:AF20,"A")
... A48: =IF(Resumen!$A45="","",Resumen!$A45) | AG48: =COUNTIF(B48:AF48,"V")+COUNTIF(B48:AF48,"M")*0.5 | AH48: =COUNTIF(B48:AF48,"P")+COUNTIF(B48:AF48,"B")+COUNTIF(B48:AF48,"A")
A50: Faltan ese día | B50: =IF(B$5="","",COUNTIF(B$9:B$48,"?*")) | C50: =IF(C$5="","",COUNTIF(C$9:C$48,"?*")) | D50: =IF(D$5="","",COUNTIF(D$9:D$48,"?*")) | E50: =IF(E$5="","",COUNTIF(E$9:E$48,"?*")) | F50: =IF(F$5="","",COUNTIF(F$9:F$48,"?*")) | G50: =IF(G$5="","",COUNTIF(G$9:G$48,"?*")) | H50: =IF(H$5="","",COUNTIF(H$9:H$48,"?*")) | I50: =IF(I$5="","",COUNTIF(I$9:I$48,"?*")) | ... AF50: =IF(AF$5="","",COUNTIF(AF$9:AF$48,"?*"))
A51: Están ese día | B51: =IF(B$5="","",COUNTIF($A$9:$A$48,"?*")-B50) | C51: =IF(C$5="","",COUNTIF($A$9:$A$48,"?*")-C50) | D51: =IF(D$5="","",COUNTIF($A$9:$A$48,"?*")-D50) | E51: =IF(E$5="","",COUNTIF($A$9:$A$48,"?*")-E50) | F51: =IF(F$5="","",COUNTIF($A$9:$A$48,"?*")-F50) | G51: =IF(G$5="","",COUNTIF($A$9:$A$48,"?*")-G50) | H51: =IF(H$5="","",COUNTIF($A$9:$A$48,"?*")-H50) | I51: =IF(I$5="","",COUNTIF($A$9:$A$48,"?*")-I50) | ... AF51: =IF(AF$5="","",COUNTIF($A$9:$A$48,"?*")-AF50)
A53: Leyenda
A54: V · Vacaciones
A55: M · Medio día de vacaciones
A56: P · Permiso retribuido
A57: B · Baja médica
A58: A · Otra ausencia
A59: Festivo
A60: Sábado y domingo

Sheet Marzo
A1: ="Marzo "&Resumen!$B$2 | N1: Las vacaciones de todos, sin cruzar correos: pruébalo gratis en satcontrol.es
A2: Festivos de: | B2: =Resumen!$E$2
A3: Marca en cada día: V vacaciones · M medio día de vacaciones · P permiso retribuido · B baja médica · A otra ausencia. Los nombres salen de «Resumen».
A5: Empleado | B5: =IF(1<=DAY(EOMONTH(DATE(Resumen!$B$2,3,1),0)),1,"") | C5: =IF(2<=DAY(EOMONTH(DATE(Resumen!$B$2,3,1),0)),2,"") | D5: =IF(3<=DAY(EOMONTH(DATE(Resumen!$B$2,3,1),0)),3,"") | E5: =IF(4<=DAY(EOMONTH(DATE(Resumen!$B$2,3,1),0)),4,"") | F5: =IF(5<=DAY(EOMONTH(DATE(Resumen!$B$2,3,1),0)),5,"") | G5: =IF(6<=DAY(EOMONTH(DATE(Resumen!$B$2,3,1),0)),6,"") | H5: =IF(7<=DAY(EOMONTH(DATE(Resumen!$B$2,3,1),0)),7,"") | I5: =IF(8<=DAY(EOMONTH(DATE(Resumen!$B$2,3,1),0)),8,"") | J5: =IF(9<=DAY(EOMONTH(DATE(Resumen!$B$2,3,1),0)),9,"") | K5: =IF(10<=DAY(EOMONTH(DATE(Resumen!$B$2,3,1),0)),10,"") | L5: =IF(11<=DAY(EOMONTH(DATE(Resumen!$B$2,3,1),0)),11,"") | M5: =IF(12<=DAY(EOMONTH(DATE(Resumen!$B$2,3,1),0)),12,"") | N5: =IF(13<=DAY(EOMONTH(DATE(Resumen!$B$2,3,1),0)),13,"") | O5: =IF(14<=DAY(EOMONTH(DATE(Resumen!$B$2,3,1),0)),14,"") | P5: =IF(15<=DAY(EOMONTH(DATE(Resumen!$B$2,3,1),0)),15,"") | Q5: =IF(16<=DAY(EOMONTH(DATE(Resumen!$B$2,3,1),0)),16,"") | R5: =IF(17<=DAY(EOMONTH(DATE(Resumen!$B$2,3,1),0)),17,"") | S5: =IF(18<=DAY(EOMONTH(DATE(Resumen!$B$2,3,1),0)),18,"") | T5: =IF(19<=DAY(EOMONTH(DATE(Resumen!$B$2,3,1),0)),19,"") | U5: =IF(20<=DAY(EOMONTH(DATE(Resumen!$B$2,3,1),0)),20,"") | V5: =IF(21<=DAY(EOMONTH(DATE(Resumen!$B$2,3,1),0)),21,"") | W5: =IF(22<=DAY(EOMONTH(DATE(Resumen!$B$2,3,1),0)),22,"") | X5: =IF(23<=DAY(EOMONTH(DATE(Resumen!$B$2,3,1),0)),23,"") | Y5: =IF(24<=DAY(EOMONTH(DATE(Resumen!$B$2,3,1),0)),24,"") | Z5: =IF(25<=DAY(EOMONTH(DATE(Resumen!$B$2,3,1),0)),25,"") | AA5: =IF(26<=DAY(EOMONTH(DATE(Resumen!$B$2,3,1),0)),26,"") | AB5: =IF(27<=DAY(EOMONTH(DATE(Resumen!$B$2,3,1),0)),27,"") | AC5: =IF(28<=DAY(EOMONTH(DATE(Resumen!$B$2,3,1),0)),28,"") | AD5: =IF(29<=DAY(EOMONTH(DATE(Resumen!$B$2,3,1),0)),29,"") | AE5: =IF(30<=DAY(EOMONTH(DATE(Resumen!$B$2,3,1),0)),30,"") | AF5: =IF(31<=DAY(EOMONTH(DATE(Resumen!$B$2,3,1),0)),31,"") | AG5: Vacaciones | AH5: Ausencias
B6: =IF(B$5="","",MID("LMXJVSD",WEEKDAY(DATE(Resumen!$B$2,3,B$5),2),1)) | C6: =IF(C$5="","",MID("LMXJVSD",WEEKDAY(DATE(Resumen!$B$2,3,C$5),2),1)) | D6: =IF(D$5="","",MID("LMXJVSD",WEEKDAY(DATE(Resumen!$B$2,3,D$5),2),1)) | E6: =IF(E$5="","",MID("LMXJVSD",WEEKDAY(DATE(Resumen!$B$2,3,E$5),2),1)) | F6: =IF(F$5="","",MID("LMXJVSD",WEEKDAY(DATE(Resumen!$B$2,3,F$5),2),1)) | G6: =IF(G$5="","",MID("LMXJVSD",WEEKDAY(DATE(Resumen!$B$2,3,G$5),2),1)) | H6: =IF(H$5="","",MID("LMXJVSD",WEEKDAY(DATE(Resumen!$B$2,3,H$5),2),1)) | I6: =IF(I$5="","",MID("LMXJVSD",WEEKDAY(DATE(Resumen!$B$2,3,I$5),2),1)) | ... AF6: =IF(AF$5="","",MID("LMXJVSD",WEEKDAY(DATE(Resumen!$B$2,3,AF$5),2),1))
A7: Festivo | B7: =IF(B$5="","",IF(COUNTIFS(Festivos!$A$5:$A$239,Resumen!$E$2,Festivos!$B$5:$B$239,DATE(Resumen!$B$2,3,B$5))+COUNTIF(Festivos!$E$5:$E$24,DATE(Resumen!$B$2,3,B$5))>0,"F","")) | C7: =IF(C$5="","",IF(COUNTIFS(Festivos!$A$5:$A$239,Resumen!$E$2,Festivos!$B$5:$B$239,DATE(Resumen!$B$2,3,C$5))+COUNTIF(Festivos!$E$5:$E$24,DATE(Resumen!$B$2,3,C$5))>0,"F","")) | D7: =IF(D$5="","",IF(COUNTIFS(Festivos!$A$5:$A$239,Resumen!$E$2,Festivos!$B$5:$B$239,DATE(Resumen!$B$2,3,D$5))+COUNTIF(Festivos!$E$5:$E$24,DATE(Resumen!$B$2,3,D$5))>0,"F","")) | E7: =IF(E$5="","",IF(COUNTIFS(Festivos!$A$5:$A$239,Resumen!$E$2,Festivos!$B$5:$B$239,DATE(Resumen!$B$2,3,E$5))+COUNTIF(Festivos!$E$5:$E$24,DATE(Resumen!$B$2,3,E$5))>0,"F","")) | F7: =IF(F$5="","",IF(COUNTIFS(Festivos!$A$5:$A$239,Resumen!$E$2,Festivos!$B$5:$B$239,DATE(Resumen!$B$2,3,F$5))+COUNTIF(Festivos!$E$5:$E$24,DATE(Resumen!$B$2,3,F$5))>0,"F","")) | G7: =IF(G$5="","",IF(COUNTIFS(Festivos!$A$5:$A$239,Resumen!$E$2,Festivos!$B$5:$B$239,DATE(Resumen!$B$2,3,G$5))+COUNTIF(Festivos!$E$5:$E$24,DATE(Resumen!$B$2,3,G$5))>0,"F","")) | H7: =IF(H$5="","",IF(COUNTIFS(Festivos!$A$5:$A$239,Resumen!$E$2,Festivos!$B$5:$B$239,DATE(Resumen!$B$2,3,H$5))+COUNTIF(Festivos!$E$5:$E$24,DATE(Resumen!$B$2,3,H$5))>0,"F","")) | I7: =IF(I$5="","",IF(COUNTIFS(Festivos!$A$5:$A$239,Resumen!$E$2,Festivos!$B$5:$B$239,DATE(Resumen!$B$2,3,I$5))+COUNTIF(Festivos!$E$5:$E$24,DATE(Resumen!$B$2,3,I$5))>0,"F","")) | ... AF7: =IF(AF$5="","",IF(COUNTIFS(Festivos!$A$5:$A$239,Resumen!$E$2,Festivos!$B$5:$B$239,DATE(Resumen!$B$2,3,AF$5))+COUNTIF(Festivos!$E$5:$E$24,DATE(Resumen!$B$2,3,AF$5))>0,"F",""))
A9: =IF(Resumen!$A6="","",Resumen!$A6) | AG9: =COUNTIF(B9:AF9,"V")+COUNTIF(B9:AF9,"M")*0.5 | AH9: =COUNTIF(B9:AF9,"P")+COUNTIF(B9:AF9,"B")+COUNTIF(B9:AF9,"A")
A10: =IF(Resumen!$A7="","",Resumen!$A7) | AG10: =COUNTIF(B10:AF10,"V")+COUNTIF(B10:AF10,"M")*0.5 | AH10: =COUNTIF(B10:AF10,"P")+COUNTIF(B10:AF10,"B")+COUNTIF(B10:AF10,"A")
A11: =IF(Resumen!$A8="","",Resumen!$A8) | AG11: =COUNTIF(B11:AF11,"V")+COUNTIF(B11:AF11,"M")*0.5 | AH11: =COUNTIF(B11:AF11,"P")+COUNTIF(B11:AF11,"B")+COUNTIF(B11:AF11,"A")
A12: =IF(Resumen!$A9="","",Resumen!$A9) | AG12: =COUNTIF(B12:AF12,"V")+COUNTIF(B12:AF12,"M")*0.5 | AH12: =COUNTIF(B12:AF12,"P")+COUNTIF(B12:AF12,"B")+COUNTIF(B12:AF12,"A")
A13: =IF(Resumen!$A10="","",Resumen!$A10) | AG13: =COUNTIF(B13:AF13,"V")+COUNTIF(B13:AF13,"M")*0.5 | AH13: =COUNTIF(B13:AF13,"P")+COUNTIF(B13:AF13,"B")+COUNTIF(B13:AF13,"A")
A14: =IF(Resumen!$A11="","",Resumen!$A11) | AG14: =COUNTIF(B14:AF14,"V")+COUNTIF(B14:AF14,"M")*0.5 | AH14: =COUNTIF(B14:AF14,"P")+COUNTIF(B14:AF14,"B")+COUNTIF(B14:AF14,"A")
A15: =IF(Resumen!$A12="","",Resumen!$A12) | AG15: =COUNTIF(B15:AF15,"V")+COUNTIF(B15:AF15,"M")*0.5 | AH15: =COUNTIF(B15:AF15,"P")+COUNTIF(B15:AF15,"B")+COUNTIF(B15:AF15,"A")
A16: =IF(Resumen!$A13="","",Resumen!$A13) | AG16: =COUNTIF(B16:AF16,"V")+COUNTIF(B16:AF16,"M")*0.5 | AH16: =COUNTIF(B16:AF16,"P")+COUNTIF(B16:AF16,"B")+COUNTIF(B16:AF16,"A")
A17: =IF(Resumen!$A14="","",Resumen!$A14) | AG17: =COUNTIF(B17:AF17,"V")+COUNTIF(B17:AF17,"M")*0.5 | AH17: =COUNTIF(B17:AF17,"P")+COUNTIF(B17:AF17,"B")+COUNTIF(B17:AF17,"A")
A18: =IF(Resumen!$A15="","",Resumen!$A15) | AG18: =COUNTIF(B18:AF18,"V")+COUNTIF(B18:AF18,"M")*0.5 | AH18: =COUNTIF(B18:AF18,"P")+COUNTIF(B18:AF18,"B")+COUNTIF(B18:AF18,"A")
A19: =IF(Resumen!$A16="","",Resumen!$A16) | AG19: =COUNTIF(B19:AF19,"V")+COUNTIF(B19:AF19,"M")*0.5 | AH19: =COUNTIF(B19:AF19,"P")+COUNTIF(B19:AF19,"B")+COUNTIF(B19:AF19,"A")
A20: =IF(Resumen!$A17="","",Resumen!$A17) | AG20: =COUNTIF(B20:AF20,"V")+COUNTIF(B20:AF20,"M")*0.5 | AH20: =COUNTIF(B20:AF20,"P")+COUNTIF(B20:AF20,"B")+COUNTIF(B20:AF20,"A")
... A48: =IF(Resumen!$A45="","",Resumen!$A45) | AG48: =COUNTIF(B48:AF48,"V")+COUNTIF(B48:AF48,"M")*0.5 | AH48: =COUNTIF(B48:AF48,"P")+COUNTIF(B48:AF48,"B")+COUNTIF(B48:AF48,"A")
A50: Faltan ese día | B50: =IF(B$5="","",COUNTIF(B$9:B$48,"?*")) | C50: =IF(C$5="","",COUNTIF(C$9:C$48,"?*")) | D50: =IF(D$5="","",COUNTIF(D$9:D$48,"?*")) | E50: =IF(E$5="","",COUNTIF(E$9:E$48,"?*")) | F50: =IF(F$5="","",COUNTIF(F$9:F$48,"?*")) | G50: =IF(G$5="","",COUNTIF(G$9:G$48,"?*")) | H50: =IF(H$5="","",COUNTIF(H$9:H$48,"?*")) | I50: =IF(I$5="","",COUNTIF(I$9:I$48,"?*")) | ... AF50: =IF(AF$5="","",COUNTIF(AF$9:AF$48,"?*"))
A51: Están ese día | B51: =IF(B$5="","",COUNTIF($A$9:$A$48,"?*")-B50) | C51: =IF(C$5="","",COUNTIF($A$9:$A$48,"?*")-C50) | D51: =IF(D$5="","",COUNTIF($A$9:$A$48,"?*")-D50) | E51: =IF(E$5="","",COUNTIF($A$9:$A$48,"?*")-E50) | F51: =IF(F$5="","",COUNTIF($A$9:$A$48,"?*")-F50) | G51: =IF(G$5="","",COUNTIF($A$9:$A$48,"?*")-G50) | H51: =IF(H$5="","",COUNTIF($A$9:$A$48,"?*")-H50) | I51: =IF(I$5="","",COUNTIF($A$9:$A$48,"?*")-I50) | ... AF51: =IF(AF$5="","",COUNTIF($A$9:$A$48,"?*")-AF50)
A53: Leyenda
A54: V · Vacaciones
A55: M · Medio día de vacaciones
A56: P · Permiso retribuido
A57: B · Baja médica
A58: A · Otra ausencia
A59: Festivo
A60: Sábado y domingo

Sheet Abril
A1: ="Abril "&Resumen!$B$2 | N1: Las vacaciones de todos, sin cruzar correos: pruébalo gratis en satcontrol.es
A2: Festivos de: | B2: =Resumen!$E$2
A3: Marca en cada día: V vacaciones · M medio día de vacaciones · P permiso retribuido · B baja médica · A otra ausencia. Los nombres salen de «Resumen».
A5: Empleado | B5: =IF(1<=DAY(EOMONTH(DATE(Resumen!$B$2,4,1),0)),1,"") | C5: =IF(2<=DAY(EOMONTH(DATE(Resumen!$B$2,4,1),0)),2,"") | D5: =IF(3<=DAY(EOMONTH(DATE(Resumen!$B$2,4,1),0)),3,"") | E5: =IF(4<=DAY(EOMONTH(DATE(Resumen!$B$2,4,1),0)),4,"") | F5: =IF(5<=DAY(EOMONTH(DATE(Resumen!$B$2,4,1),0)),5,"") | G5: =IF(6<=DAY(EOMONTH(DATE(Resumen!$B$2,4,1),0)),6,"") | H5: =IF(7<=DAY(EOMONTH(DATE(Resumen!$B$2,4,1),0)),7,"") | I5: =IF(8<=DAY(EOMONTH(DATE(Resumen!$B$2,4,1),0)),8,"") | J5: =IF(9<=DAY(EOMONTH(DATE(Resumen!$B$2,4,1),0)),9,"") | K5: =IF(10<=DAY(EOMONTH(DATE(Resumen!$B$2,4,1),0)),10,"") | L5: =IF(11<=DAY(EOMONTH(DATE(Resumen!$B$2,4,1),0)),11,"") | M5: =IF(12<=DAY(EOMONTH(DATE(Resumen!$B$2,4,1),0)),12,"") | N5: =IF(13<=DAY(EOMONTH(DATE(Resumen!$B$2,4,1),0)),13,"") | O5: =IF(14<=DAY(EOMONTH(DATE(Resumen!$B$2,4,1),0)),14,"") | P5: =IF(15<=DAY(EOMONTH(DATE(Resumen!$B$2,4,1),0)),15,"") | Q5: =IF(16<=DAY(EOMONTH(DATE(Resumen!$B$2,4,1),0)),16,"") | R5: =IF(17<=DAY(EOMONTH(DATE(Resumen!$B$2,4,1),0)),17,"") | S5: =IF(18<=DAY(EOMONTH(DATE(Resumen!$B$2,4,1),0)),18,"") | T5: =IF(19<=DAY(EOMONTH(DATE(Resumen!$B$2,4,1),0)),19,"") | U5: =IF(20<=DAY(EOMONTH(DATE(Resumen!$B$2,4,1),0)),20,"") | V5: =IF(21<=DAY(EOMONTH(DATE(Resumen!$B$2,4,1),0)),21,"") | W5: =IF(22<=DAY(EOMONTH(DATE(Resumen!$B$2,4,1),0)),22,"") | X5: =IF(23<=DAY(EOMONTH(DATE(Resumen!$B$2,4,1),0)),23,"") | Y5: =IF(24<=DAY(EOMONTH(DATE(Resumen!$B$2,4,1),0)),24,"") | Z5: =IF(25<=DAY(EOMONTH(DATE(Resumen!$B$2,4,1),0)),25,"") | AA5: =IF(26<=DAY(EOMONTH(DATE(Resumen!$B$2,4,1),0)),26,"") | AB5: =IF(27<=DAY(EOMONTH(DATE(Resumen!$B$2,4,1),0)),27,"") | AC5: =IF(28<=DAY(EOMONTH(DATE(Resumen!$B$2,4,1),0)),28,"") | AD5: =IF(29<=DAY(EOMONTH(DATE(Resumen!$B$2,4,1),0)),29,"") | AE5: =IF(30<=DAY(EOMONTH(DATE(Resumen!$B$2,4,1),0)),30,"") | AF5: =IF(31<=DAY(EOMONTH(DATE(Resumen!$B$2,4,1),0)),31,"") | AG5: Vacaciones | AH5: Ausencias
B6: =IF(B$5="","",MID("LMXJVSD",WEEKDAY(DATE(Resumen!$B$2,4,B$5),2),1)) | C6: =IF(C$5="","",MID("LMXJVSD",WEEKDAY(DATE(Resumen!$B$2,4,C$5),2),1)) | D6: =IF(D$5="","",MID("LMXJVSD",WEEKDAY(DATE(Resumen!$B$2,4,D$5),2),1)) | E6: =IF(E$5="","",MID("LMXJVSD",WEEKDAY(DATE(Resumen!$B$2,4,E$5),2),1)) | F6: =IF(F$5="","",MID("LMXJVSD",WEEKDAY(DATE(Resumen!$B$2,4,F$5),2),1)) | G6: =IF(G$5="","",MID("LMXJVSD",WEEKDAY(DATE(Resumen!$B$2,4,G$5),2),1)) | H6: =IF(H$5="","",MID("LMXJVSD",WEEKDAY(DATE(Resumen!$B$2,4,H$5),2),1)) | I6: =IF(I$5="","",MID("LMXJVSD",WEEKDAY(DATE(Resumen!$B$2,4,I$5),2),1)) | ... AF6: =IF(AF$5="","",MID("LMXJVSD",WEEKDAY(DATE(Resumen!$B$2,4,AF$5),2),1))
A7: Festivo | B7: =IF(B$5="","",IF(COUNTIFS(Festivos!$A$5:$A$239,Resumen!$E$2,Festivos!$B$5:$B$239,DATE(Resumen!$B$2,4,B$5))+COUNTIF(Festivos!$E$5:$E$24,DATE(Resumen!$B$2,4,B$5))>0,"F","")) | C7: =IF(C$5="","",IF(COUNTIFS(Festivos!$A$5:$A$239,Resumen!$E$2,Festivos!$B$5:$B$239,DATE(Resumen!$B$2,4,C$5))+COUNTIF(Festivos!$E$5:$E$24,DATE(Resumen!$B$2,4,C$5))>0,"F","")) | D7: =IF(D$5="","",IF(COUNTIFS(Festivos!$A$5:$A$239,Resumen!$E$2,Festivos!$B$5:$B$239,DATE(Resumen!$B$2,4,D$5))+COUNTIF(Festivos!$E$5:$E$24,DATE(Resumen!$B$2,4,D$5))>0,"F","")) | E7: =IF(E$5="","",IF(COUNTIFS(Festivos!$A$5:$A$239,Resumen!$E$2,Festivos!$B$5:$B$239,DATE(Resumen!$B$2,4,E$5))+COUNTIF(Festivos!$E$5:$E$24,DATE(Resumen!$B$2,4,E$5))>0,"F","")) | F7: =IF(F$5="","",IF(COUNTIFS(Festivos!$A$5:$A$239,Resumen!$E$2,Festivos!$B$5:$B$239,DATE(Resumen!$B$2,4,F$5))+COUNTIF(Festivos!$E$5:$E$24,DATE(Resumen!$B$2,4,F$5))>0,"F","")) | G7: =IF(G$5="","",IF(COUNTIFS(Festivos!$A$5:$A$239,Resumen!$E$2,Festivos!$B$5:$B$239,DATE(Resumen!$B$2,4,G$5))+COUNTIF(Festivos!$E$5:$E$24,DATE(Resumen!$B$2,4,G$5))>0,"F","")) | H7: =IF(H$5="","",IF(COUNTIFS(Festivos!$A$5:$A$239,Resumen!$E$2,Festivos!$B$5:$B$239,DATE(Resumen!$B$2,4,H$5))+COUNTIF(Festivos!$E$5:$E$24,DATE(Resumen!$B$2,4,H$5))>0,"F","")) | I7: =IF(I$5="","",IF(COUNTIFS(Festivos!$A$5:$A$239,Resumen!$E$2,Festivos!$B$5:$B$239,DATE(Resumen!$B$2,4,I$5))+COUNTIF(Festivos!$E$5:$E$24,DATE(Resumen!$B$2,4,I$5))>0,"F","")) | ... AF7: =IF(AF$5="","",IF(COUNTIFS(Festivos!$A$5:$A$239,Resumen!$E$2,Festivos!$B$5:$B$239,DATE(Resumen!$B$2,4,AF$5))+COUNTIF(Festivos!$E$5:$E$24,DATE(Resumen!$B$2,4,AF$5))>0,"F",""))
A9: =IF(Resumen!$A6="","",Resumen!$A6) | AG9: =COUNTIF(B9:AF9,"V")+COUNTIF(B9:AF9,"M")*0.5 | AH9: =COUNTIF(B9:AF9,"P")+COUNTIF(B9:AF9,"B")+COUNTIF(B9:AF9,"A")
A10: =IF(Resumen!$A7="","",Resumen!$A7) | AG10: =COUNTIF(B10:AF10,"V")+COUNTIF(B10:AF10,"M")*0.5 | AH10: =COUNTIF(B10:AF10,"P")+COUNTIF(B10:AF10,"B")+COUNTIF(B10:AF10,"A")
A11: =IF(Resumen!$A8="","",Resumen!$A8) | AG11: =COUNTIF(B11:AF11,"V")+COUNTIF(B11:AF11,"M")*0.5 | AH11: =COUNTIF(B11:AF11,"P")+COUNTIF(B11:AF11,"B")+COUNTIF(B11:AF11,"A")
A12: =IF(Resumen!$A9="","",Resumen!$A9) | AG12: =COUNTIF(B12:AF12,"V")+COUNTIF(B12:AF12,"M")*0.5 | AH12: =COUNTIF(B12:AF12,"P")+COUNTIF(B12:AF12,"B")+COUNTIF(B12:AF12,"A")
A13: =IF(Resumen!$A10="","",Resumen!$A10) | AG13: =COUNTIF(B13:AF13,"V")+COUNTIF(B13:AF13,"M")*0.5 | AH13: =COUNTIF(B13:AF13,"P")+COUNTIF(B13:AF13,"B")+COUNTIF(B13:AF13,"A")
A14: =IF(Resumen!$A11="","",Resumen!$A11) | AG14: =COUNTIF(B14:AF14,"V")+COUNTIF(B14:AF14,"M")*0.5 | AH14: =COUNTIF(B14:AF14,"P")+COUNTIF(B14:AF14,"B")+COUNTIF(B14:AF14,"A")
A15: =IF(Resumen!$A12="","",Resumen!$A12) | AG15: =COUNTIF(B15:AF15,"V")+COUNTIF(B15:AF15,"M")*0.5 | AH15: =COUNTIF(B15:AF15,"P")+COUNTIF(B15:AF15,"B")+COUNTIF(B15:AF15,"A")
A16: =IF(Resumen!$A13="","",Resumen!$A13) | AG16: =COUNTIF(B16:AF16,"V")+COUNTIF(B16:AF16,"M")*0.5 | AH16: =COUNTIF(B16:AF16,"P")+COUNTIF(B16:AF16,"B")+COUNTIF(B16:AF16,"A")
A17: =IF(Resumen!$A14="","",Resumen!$A14) | AG17: =COUNTIF(B17:AF17,"V")+COUNTIF(B17:AF17,"M")*0.5 | AH17: =COUNTIF(B17:AF17,"P")+COUNTIF(B17:AF17,"B")+COUNTIF(B17:AF17,"A")
A18: =IF(Resumen!$A15="","",Resumen!$A15) | AG18: =COUNTIF(B18:AF18,"V")+COUNTIF(B18:AF18,"M")*0.5 | AH18: =COUNTIF(B18:AF18,"P")+COUNTIF(B18:AF18,"B")+COUNTIF(B18:AF18,"A")
A19: =IF(Resumen!$A16="","",Resumen!$A16) | AG19: =COUNTIF(B19:AF19,"V")+COUNTIF(B19:AF19,"M")*0.5 | AH19: =COUNTIF(B19:AF19,"P")+COUNTIF(B19:AF19,"B")+COUNTIF(B19:AF19,"A")
A20: =IF(Resumen!$A17="","",Resumen!$A17) | AG20: =COUNTIF(B20:AF20,"V")+COUNTIF(B20:AF20,"M")*0.5 | AH20: =COUNTIF(B20:AF20,"P")+COUNTIF(B20:AF20,"B")+COUNTIF(B20:AF20,"A")
... A48: =IF(Resumen!$A45="","",Resumen!$A45) | AG48: =COUNTIF(B48:AF48,"V")+COUNTIF(B48:AF48,"M")*0.5 | AH48: =COUNTIF(B48:AF48,"P")+COUNTIF(B48:AF48,"B")+COUNTIF(B48:AF48,"A")
A50: Faltan ese día | B50: =IF(B$5="","",COUNTIF(B$9:B$48,"?*")) | C50: =IF(C$5="","",COUNTIF(C$9:C$48,"?*")) | D50: =IF(D$5="","",COUNTIF(D$9:D$48,"?*")) | E50: =IF(E$5="","",COUNTIF(E$9:E$48,"?*")) | F50: =IF(F$5="","",COUNTIF(F$9:F$48,"?*")) | G50: =IF(G$5="","",COUNTIF(G$9:G$48,"?*")) | H50: =IF(H$5="","",COUNTIF(H$9:H$48,"?*")) | I50: =IF(I$5="","",COUNTIF(I$9:I$48,"?*")) | ... AF50: =IF(AF$5="","",COUNTIF(AF$9:AF$48,"?*"))
A51: Están ese día | B51: =IF(B$5="","",COUNTIF($A$9:$A$48,"?*")-B50) | C51: =IF(C$5="","",COUNTIF($A$9:$A$48,"?*")-C50) | D51: =IF(D$5="","",COUNTIF($A$9:$A$48,"?*")-D50) | E51: =IF(E$5="","",COUNTIF($A$9:$A$48,"?*")-E50) | F51: =IF(F$5="","",COUNTIF($A$9:$A$48,"?*")-F50) | G51: =IF(G$5="","",COUNTIF($A$9:$A$48,"?*")-G50) | H51: =IF(H$5="","",COUNTIF($A$9:$A$48,"?*")-H50) | I51: =IF(I$5="","",COUNTIF($A$9:$A$48,"?*")-I50) | ... AF51: =IF(AF$5="","",COUNTIF($A$9:$A$48,"?*")-AF50)
A53: Leyenda
A54: V · Vacaciones
A55: M · Medio día de vacaciones
A56: P · Permiso retribuido
A57: B · Baja médica
A58: A · Otra ausencia
A59: Festivo
A60: Sábado y domingo

Sheet Mayo
A1: ="Mayo "&Resumen!$B$2 | N1: Las vacaciones de todos, sin cruzar correos: pruébalo gratis en satcontrol.es
A2: Festivos de: | B2: =Resumen!$E$2
A3: Marca en cada día: V vacaciones · M medio día de vacaciones · P permiso retribuido · B baja médica · A otra ausencia. Los nombres salen de «Resumen».
A5: Empleado | B5: =IF(1<=DAY(EOMONTH(DATE(Resumen!$B$2,5,1),0)),1,"") | C5: =IF(2<=DAY(EOMONTH(DATE(Resumen!$B$2,5,1),0)),2,"") | D5: =IF(3<=DAY(EOMONTH(DATE(Resumen!$B$2,5,1),0)),3,"") | E5: =IF(4<=DAY(EOMONTH(DATE(Resumen!$B$2,5,1),0)),4,"") | F5: =IF(5<=DAY(EOMONTH(DATE(Resumen!$B$2,5,1),0)),5,"") | G5: =IF(6<=DAY(EOMONTH(DATE(Resumen!$B$2,5,1),0)),6,"") | H5: =IF(7<=DAY(EOMONTH(DATE(Resumen!$B$2,5,1),0)),7,"") | I5: =IF(8<=DAY(EOMONTH(DATE(Resumen!$B$2,5,1),0)),8,"") | J5: =IF(9<=DAY(EOMONTH(DATE(Resumen!$B$2,5,1),0)),9,"") | K5: =IF(10<=DAY(EOMONTH(DATE(Resumen!$B$2,5,1),0)),10,"") | L5: =IF(11<=DAY(EOMONTH(DATE(Resumen!$B$2,5,1),0)),11,"") | M5: =IF(12<=DAY(EOMONTH(DATE(Resumen!$B$2,5,1),0)),12,"") | N5: =IF(13<=DAY(EOMONTH(DATE(Resumen!$B$2,5,1),0)),13,"") | O5: =IF(14<=DAY(EOMONTH(DATE(Resumen!$B$2,5,1),0)),14,"") | P5: =IF(15<=DAY(EOMONTH(DATE(Resumen!$B$2,5,1),0)),15,"") | Q5: =IF(16<=DAY(EOMONTH(DATE(Resumen!$B$2,5,1),0)),16,"") | R5: =IF(17<=DAY(EOMONTH(DATE(Resumen!$B$2,5,1),0)),17,"") | S5: =IF(18<=DAY(EOMONTH(DATE(Resumen!$B$2,5,1),0)),18,"") | T5: =IF(19<=DAY(EOMONTH(DATE(Resumen!$B$2,5,1),0)),19,"") | U5: =IF(20<=DAY(EOMONTH(DATE(Resumen!$B$2,5,1),0)),20,"") | V5: =IF(21<=DAY(EOMONTH(DATE(Resumen!$B$2,5,1),0)),21,"") | W5: =IF(22<=DAY(EOMONTH(DATE(Resumen!$B$2,5,1),0)),22,"") | X5: =IF(23<=DAY(EOMONTH(DATE(Resumen!$B$2,5,1),0)),23,"") | Y5: =IF(24<=DAY(EOMONTH(DATE(Resumen!$B$2,5,1),0)),24,"") | Z5: =IF(25<=DAY(EOMONTH(DATE(Resumen!$B$2,5,1),0)),25,"") | AA5: =IF(26<=DAY(EOMONTH(DATE(Resumen!$B$2,5,1),0)),26,"") | AB5: =IF(27<=DAY(EOMONTH(DATE(Resumen!$B$2,5,1),0)),27,"") | AC5: =IF(28<=DAY(EOMONTH(DATE(Resumen!$B$2,5,1),0)),28,"") | AD5: =IF(29<=DAY(EOMONTH(DATE(Resumen!$B$2,5,1),0)),29,"") | AE5: =IF(30<=DAY(EOMONTH(DATE(Resumen!$B$2,5,1),0)),30,"") | AF5: =IF(31<=DAY(EOMONTH(DATE(Resumen!$B$2,5,1),0)),31,"") | AG5: Vacaciones | AH5: Ausencias
B6: =IF(B$5="","",MID("LMXJVSD",WEEKDAY(DATE(Resumen!$B$2,5,B$5),2),1)) | C6: =IF(C$5="","",MID("LMXJVSD",WEEKDAY(DATE(Resumen!$B$2,5,C$5),2),1)) | D6: =IF(D$5="","",MID("LMXJVSD",WEEKDAY(DATE(Resumen!$B$2,5,D$5),2),1)) | E6: =IF(E$5="","",MID("LMXJVSD",WEEKDAY(DATE(Resumen!$B$2,5,E$5),2),1)) | F6: =IF(F$5="","",MID("LMXJVSD",WEEKDAY(DATE(Resumen!$B$2,5,F$5),2),1)) | G6: =IF(G$5="","",MID("LMXJVSD",WEEKDAY(DATE(Resumen!$B$2,5,G$5),2),1)) | H6: =IF(H$5="","",MID("LMXJVSD",WEEKDAY(DATE(Resumen!$B$2,5,H$5),2),1)) | I6: =IF(I$5="","",MID("LMXJVSD",WEEKDAY(DATE(Resumen!$B$2,5,I$5),2),1)) | ... AF6: =IF(AF$5="","",MID("LMXJVSD",WEEKDAY(DATE(Resumen!$B$2,5,AF$5),2),1))
A7: Festivo | B7: =IF(B$5="","",IF(COUNTIFS(Festivos!$A$5:$A$239,Resumen!$E$2,Festivos!$B$5:$B$239,DATE(Resumen!$B$2,5,B$5))+COUNTIF(Festivos!$E$5:$E$24,DATE(Resumen!$B$2,5,B$5))>0,"F","")) | C7: =IF(C$5="","",IF(COUNTIFS(Festivos!$A$5:$A$239,Resumen!$E$2,Festivos!$B$5:$B$239,DATE(Resumen!$B$2,5,C$5))+COUNTIF(Festivos!$E$5:$E$24,DATE(Resumen!$B$2,5,C$5))>0,"F","")) | D7: =IF(D$5="","",IF(COUNTIFS(Festivos!$A$5:$A$239,Resumen!$E$2,Festivos!$B$5:$B$239,DATE(Resumen!$B$2,5,D$5))+COUNTIF(Festivos!$E$5:$E$24,DATE(Resumen!$B$2,5,D$5))>0,"F","")) | E7: =IF(E$5="","",IF(COUNTIFS(Festivos!$A$5:$A$239,Resumen!$E$2,Festivos!$B$5:$B$239,DATE(Resumen!$B$2,5,E$5))+COUNTIF(Festivos!$E$5:$E$24,DATE(Resumen!$B$2,5,E$5))>0,"F","")) | F7: =IF(F$5="","",IF(COUNTIFS(Festivos!$A$5:$A$239,Resumen!$E$2,Festivos!$B$5:$B$239,DATE(Resumen!$B$2,5,F$5))+COUNTIF(Festivos!$E$5:$E$24,DATE(Resumen!$B$2,5,F$5))>0,"F","")) | G7: =IF(G$5="","",IF(COUNTIFS(Festivos!$A$5:$A$239,Resumen!$E$2,Festivos!$B$5:$B$239,DATE(Resumen!$B$2,5,G$5))+COUNTIF(Festivos!$E$5:$E$24,DATE(Resumen!$B$2,5,G$5))>0,"F","")) | H7: =IF(H$5="","",IF(COUNTIFS(Festivos!$A$5:$A$239,Resumen!$E$2,Festivos!$B$5:$B$239,DATE(Resumen!$B$2,5,H$5))+COUNTIF(Festivos!$E$5:$E$24,DATE(Resumen!$B$2,5,H$5))>0,"F","")) | I7: =IF(I$5="","",IF(COUNTIFS(Festivos!$A$5:$A$239,Resumen!$E$2,Festivos!$B$5:$B$239,DATE(Resumen!$B$2,5,I$5))+COUNTIF(Festivos!$E$5:$E$24,DATE(Resumen!$B$2,5,I$5))>0,"F","")) | ... AF7: =IF(AF$5="","",IF(COUNTIFS(Festivos!$A$5:$A$239,Resumen!$E$2,Festivos!$B$5:$B$239,DATE(Resumen!$B$2,5,AF$5))+COUNTIF(Festivos!$E$5:$E$24,DATE(Resumen!$B$2,5,AF$5))>0,"F",""))
A9: =IF(Resumen!$A6="","",Resumen!$A6) | AG9: =COUNTIF(B9:AF9,"V")+COUNTIF(B9:AF9,"M")*0.5 | AH9: =COUNTIF(B9:AF9,"P")+COUNTIF(B9:AF9,"B")+COUNTIF(B9:AF9,"A")
A10: =IF(Resumen!$A7="","",Resumen!$A7) | AG10: =COUNTIF(B10:AF10,"V")+COUNTIF(B10:AF10,"M")*0.5 | AH10: =COUNTIF(B10:AF10,"P")+COUNTIF(B10:AF10,"B")+COUNTIF(B10:AF10,"A")
A11: =IF(Resumen!$A8="","",Resumen!$A8) | AG11: =COUNTIF(B11:AF11,"V")+COUNTIF(B11:AF11,"M")*0.5 | AH11: =COUNTIF(B11:AF11,"P")+COUNTIF(B11:AF11,"B")+COUNTIF(B11:AF11,"A")
A12: =IF(Resumen!$A9="","",Resumen!$A9) | AG12: =COUNTIF(B12:AF12,"V")+COUNTIF(B12:AF12,"M")*0.5 | AH12: =COUNTIF(B12:AF12,"P")+COUNTIF(B12:AF12,"B")+COUNTIF(B12:AF12,"A")
A13: =IF(Resumen!$A10="","",Resumen!$A10) | AG13: =COUNTIF(B13:AF13,"V")+COUNTIF(B13:AF13,"M")*0.5 | AH13: =COUNTIF(B13:AF13,"P")+COUNTIF(B13:AF13,"B")+COUNTIF(B13:AF13,"A")
A14: =IF(Resumen!$A11="","",Resumen!$A11) | AG14: =COUNTIF(B14:AF14,"V")+COUNTIF(B14:AF14,"M")*0.5 | AH14: =COUNTIF(B14:AF14,"P")+COUNTIF(B14:AF14,"B")+COUNTIF(B14:AF14,"A")
A15: =IF(Resumen!$A12="","",Resumen!$A12) | AG15: =COUNTIF(B15:AF15,"V")+COUNTIF(B15:AF15,"M")*0.5 | AH15: =COUNTIF(B15:AF15,"P")+COUNTIF(B15:AF15,"B")+COUNTIF(B15:AF15,"A")
A16: =IF(Resumen!$A13="","",Resumen!$A13) | AG16: =COUNTIF(B16:AF16,"V")+COUNTIF(B16:AF16,"M")*0.5 | AH16: =COUNTIF(B16:AF16,"P")+COUNTIF(B16:AF16,"B")+COUNTIF(B16:AF16,"A")
A17: =IF(Resumen!$A14="","",Resumen!$A14) | AG17: =COUNTIF(B17:AF17,"V")+COUNTIF(B17:AF17,"M")*0.5 | AH17: =COUNTIF(B17:AF17,"P")+COUNTIF(B17:AF17,"B")+COUNTIF(B17:AF17,"A")
A18: =IF(Resumen!$A15="","",Resumen!$A15) | AG18: =COUNTIF(B18:AF18,"V")+COUNTIF(B18:AF18,"M")*0.5 | AH18: =COUNTIF(B18:AF18,"P")+COUNTIF(B18:AF18,"B")+COUNTIF(B18:AF18,"A")
A19: =IF(Resumen!$A16="","",Resumen!$A16) | AG19: =COUNTIF(B19:AF19,"V")+COUNTIF(B19:AF19,"M")*0.5 | AH19: =COUNTIF(B19:AF19,"P")+COUNTIF(B19:AF19,"B")+COUNTIF(B19:AF19,"A")
A20: =IF(Resumen!$A17="","",Resumen!$A17) | AG20: =COUNTIF(B20:AF20,"V")+COUNTIF(B20:AF20,"M")*0.5 | AH20: =COUNTIF(B20:AF20,"P")+COUNTIF(B20:AF20,"B")+COUNTIF(B20:AF20,"A")
... A48: =IF(Resumen!$A45="","",Resumen!$A45) | AG48: =COUNTIF(B48:AF48,"V")+COUNTIF(B48:AF48,"M")*0.5 | AH48: =COUNTIF(B48:AF48,"P")+COUNTIF(B48:AF48,"B")+COUNTIF(B48:AF48,"A")
A50: Faltan ese día | B50: =IF(B$5="","",COUNTIF(B$9:B$48,"?*")) | C50: =IF(C$5="","",COUNTIF(C$9:C$48,"?*")) | D50: =IF(D$5="","",COUNTIF(D$9:D$48,"?*")) | E50: =IF(E$5="","",COUNTIF(E$9:E$48,"?*")) | F50: =IF(F$5="","",COUNTIF(F$9:F$48,"?*")) | G50: =IF(G$5="","",COUNTIF(G$9:G$48,"?*")) | H50: =IF(H$5="","",COUNTIF(H$9:H$48,"?*")) | I50: =IF(I$5="","",COUNTIF(I$9:I$48,"?*")) | ... AF50: =IF(AF$5="","",COUNTIF(AF$9:AF$48,"?*"))
A51: Están ese día | B51: =IF(B$5="","",COUNTIF($A$9:$A$48,"?*")-B50) | C51: =IF(C$5="","",COUNTIF($A$9:$A$48,"?*")-C50) | D51: =IF(D$5="","",COUNTIF($A$9:$A$48,"?*")-D50) | E51: =IF(E$5="","",COUNTIF($A$9:$A$48,"?*")-E50) | F51: =IF(F$5="","",COUNTIF($A$9:$A$48,"?*")-F50) | G51: =IF(G$5="","",COUNTIF($A$9:$A$48,"?*")-G50) | H51: =IF(H$5="","",COUNTIF($A$9:$A$48,"?*")-H50) | I51: =IF(I$5="","",COUNTIF($A$9:$A$48,"?*")-I50) | ... AF51: =IF(AF$5="","",COUNTIF($A$9:$A$48,"?*")-AF50)
A53: Leyenda
A54: V · Vacaciones
A55: M · Medio día de vacaciones
A56: P · Permiso retribuido
A57: B · Baja médica
A58: A · Otra ausencia
A59: Festivo
A60: Sábado y domingo

Sheet Junio
A1: ="Junio "&Resumen!$B$2 | N1: Las vacaciones de todos, sin cruzar correos: pruébalo gratis en satcontrol.es
A2: Festivos de: | B2: =Resumen!$E$2
A3: Marca en cada día: V vacaciones · M medio día de vacaciones · P permiso retribuido · B baja médica · A otra ausencia. Los nombres salen de «Resumen».
A5: Empleado | B5: =IF(1<=DAY(EOMONTH(DATE(Resumen!$B$2,6,1),0)),1,"") | C5: =IF(2<=DAY(EOMONTH(DATE(Resumen!$B$2,6,1),0)),2,"") | D5: =IF(3<=DAY(EOMONTH(DATE(Resumen!$B$2,6,1),0)),3,"") | E5: =IF(4<=DAY(EOMONTH(DATE(Resumen!$B$2,6,1),0)),4,"") | F5: =IF(5<=DAY(EOMONTH(DATE(Resumen!$B$2,6,1),0)),5,"") | G5: =IF(6<=DAY(EOMONTH(DATE(Resumen!$B$2,6,1),0)),6,"") | H5: =IF(7<=DAY(EOMONTH(DATE(Resumen!$B$2,6,1),0)),7,"") | I5: =IF(8<=DAY(EOMONTH(DATE(Resumen!$B$2,6,1),0)),8,"") | J5: =IF(9<=DAY(EOMONTH(DATE(Resumen!$B$2,6,1),0)),9,"") | K5: =IF(10<=DAY(EOMONTH(DATE(Resumen!$B$2,6,1),0)),10,"") | L5: =IF(11<=DAY(EOMONTH(DATE(Resumen!$B$2,6,1),0)),11,"") | M5: =IF(12<=DAY(EOMONTH(DATE(Resumen!$B$2,6,1),0)),12,"") | N5: =IF(13<=DAY(EOMONTH(DATE(Resumen!$B$2,6,1),0)),13,"") | O5: =IF(14<=DAY(EOMONTH(DATE(Resumen!$B$2,6,1),0)),14,"") | P5: =IF(15<=DAY(EOMONTH(DATE(Resumen!$B$2,6,1),0)),15,"") | Q5: =IF(16<=DAY(EOMONTH(DATE(Resumen!$B$2,6,1),0)),16,"") | R5: =IF(17<=DAY(EOMONTH(DATE(Resumen!$B$2,6,1),0)),17,"") | S5: =IF(18<=DAY(EOMONTH(DATE(Resumen!$B$2,6,1),0)),18,"") | T5: =IF(19<=DAY(EOMONTH(DATE(Resumen!$B$2,6,1),0)),19,"") | U5: =IF(20<=DAY(EOMONTH(DATE(Resumen!$B$2,6,1),0)),20,"") | V5: =IF(21<=DAY(EOMONTH(DATE(Resumen!$B$2,6,1),0)),21,"") | W5: =IF(22<=DAY(EOMONTH(DATE(Resumen!$B$2,6,1),0)),22,"") | X5: =IF(23<=DAY(EOMONTH(DATE(Resumen!$B$2,6,1),0)),23,"") | Y5: =IF(24<=DAY(EOMONTH(DATE(Resumen!$B$2,6,1),0)),24,"") | Z5: =IF(25<=DAY(EOMONTH(DATE(Resumen!$B$2,6,1),0)),25,"") | AA5: =IF(26<=DAY(EOMONTH(DATE(Resumen!$B$2,6,1),0)),26,"") | AB5: =IF(27<=DAY(EOMONTH(DATE(Resumen!$B$2,6,1),0)),27,"") | AC5: =IF(28<=DAY(EOMONTH(DATE(Resumen!$B$2,6,1),0)),28,"") | AD5: =IF(29<=DAY(EOMONTH(DATE(Resumen!$B$2,6,1),0)),29,"") | AE5: =IF(30<=DAY(EOMONTH(DATE(Resumen!$B$2,6,1),0)),30,"") | AF5: =IF(31<=DAY(EOMONTH(DATE(Resumen!$B$2,6,1),0)),31,"") | AG5: Vacaciones | AH5: Ausencias
B6: =IF(B$5="","",MID("LMXJVSD",WEEKDAY(DATE(Resumen!$B$2,6,B$5),2),1)) | C6: =IF(C$5="","",MID("LMXJVSD",WEEKDAY(DATE(Resumen!$B$2,6,C$5),2),1)) | D6: =IF(D$5="","",MID("LMXJVSD",WEEKDAY(DATE(Resumen!$B$2,6,D$5),2),1)) | E6: =IF(E$5="","",MID("LMXJVSD",WEEKDAY(DATE(Resumen!$B$2,6,E$5),2),1)) | F6: =IF(F$5="","",MID("LMXJVSD",WEEKDAY(DATE(Resumen!$B$2,6,F$5),2),1)) | G6: =IF(G$5="","",MID("LMXJVSD",WEEKDAY(DATE(Resumen!$B$2,6,G$5),2),1)) | H6: =IF(H$5="","",MID("LMXJVSD",WEEKDAY(DATE(Resumen!$B$2,6,H$5),2),1)) | I6: =IF(I$5="","",MID("LMXJVSD",WEEKDAY(DATE(Resumen!$B$2,6,I$5),2),1)) | ... AF6: =IF(AF$5="","",MID("LMXJVSD",WEEKDAY(DATE(Resumen!$B$2,6,AF$5),2),1))
A7: Festivo | B7: =IF(B$5="","",IF(COUNTIFS(Festivos!$A$5:$A$239,Resumen!$E$2,Festivos!$B$5:$B$239,DATE(Resumen!$B$2,6,B$5))+COUNTIF(Festivos!$E$5:$E$24,DATE(Resumen!$B$2,6,B$5))>0,"F","")) | C7: =IF(C$5="","",IF(COUNTIFS(Festivos!$A$5:$A$239,Resumen!$E$2,Festivos!$B$5:$B$239,DATE(Resumen!$B$2,6,C$5))+COUNTIF(Festivos!$E$5:$E$24,DATE(Resumen!$B$2,6,C$5))>0,"F","")) | D7: =IF(D$5="","",IF(COUNTIFS(Festivos!$A$5:$A$239,Resumen!$E$2,Festivos!$B$5:$B$239,DATE(Resumen!$B$2,6,D$5))+COUNTIF(Festivos!$E$5:$E$24,DATE(Resumen!$B$2,6,D$5))>0,"F","")) | E7: =IF(E$5="","",IF(COUNTIFS(Festivos!$A$5:$A$239,Resumen!$E$2,Festivos!$B$5:$B$239,DATE(Resumen!$B$2,6,E$5))+COUNTIF(Festivos!$E$5:$E$24,DATE(Resumen!$B$2,6,E$5))>0,"F","")) | F7: =IF(F$5="","",IF(COUNTIFS(Festivos!$A$5:$A$239,Resumen!$E$2,Festivos!$B$5:$B$239,DATE(Resumen!$B$2,6,F$5))+COUNTIF(Festivos!$E$5:$E$24,DATE(Resumen!$B$2,6,F$5))>0,"F","")) | G7: =IF(G$5="","",IF(COUNTIFS(Festivos!$A$5:$A$239,Resumen!$E$2,Festivos!$B$5:$B$239,DATE(Resumen!$B$2,6,G$5))+COUNTIF(Festivos!$E$5:$E$24,DATE(Resumen!$B$2,6,G$5))>0,"F","")) | H7: =IF(H$5="","",IF(COUNTIFS(Festivos!$A$5:$A$239,Resumen!$E$2,Festivos!$B$5:$B$239,DATE(Resumen!$B$2,6,H$5))+COUNTIF(Festivos!$E$5:$E$24,DATE(Resumen!$B$2,6,H$5))>0,"F","")) | I7: =IF(I$5="","",IF(COUNTIFS(Festivos!$A$5:$A$239,Resumen!$E$2,Festivos!$B$5:$B$239,DATE(Resumen!$B$2,6,I$5))+COUNTIF(Festivos!$E$5:$E$24,DATE(Resumen!$B$2,6,I$5))>0,"F","")) | ... AF7: =IF(AF$5="","",IF(COUNTIFS(Festivos!$A$5:$A$239,Resumen!$E$2,Festivos!$B$5:$B$239,DATE(Resumen!$B$2,6,AF$5))+COUNTIF(Festivos!$E$5:$E$24,DATE(Resumen!$B$2,6,AF$5))>0,"F",""))
A9: =IF(Resumen!$A6="","",Resumen!$A6) | AG9: =COUNTIF(B9:AF9,"V")+COUNTIF(B9:AF9,"M")*0.5 | AH9: =COUNTIF(B9:AF9,"P")+COUNTIF(B9:AF9,"B")+COUNTIF(B9:AF9,"A")
A10: =IF(Resumen!$A7="","",Resumen!$A7) | AG10: =COUNTIF(B10:AF10,"V")+COUNTIF(B10:AF10,"M")*0.5 | AH10: =COUNTIF(B10:AF10,"P")+COUNTIF(B10:AF10,"B")+COUNTIF(B10:AF10,"A")
A11: =IF(Resumen!$A8="","",Resumen!$A8) | AG11: =COUNTIF(B11:AF11,"V")+COUNTIF(B11:AF11,"M")*0.5 | AH11: =COUNTIF(B11:AF11,"P")+COUNTIF(B11:AF11,"B")+COUNTIF(B11:AF11,"A")
A12: =IF(Resumen!$A9="","",Resumen!$A9) | AG12: =COUNTIF(B12:AF12,"V")+COUNTIF(B12:AF12,"M")*0.5 | AH12: =COUNTIF(B12:AF12,"P")+COUNTIF(B12:AF12,"B")+COUNTIF(B12:AF12,"A")
A13: =IF(Resumen!$A10="","",Resumen!$A10) | AG13: =COUNTIF(B13:AF13,"V")+COUNTIF(B13:AF13,"M")*0.5 | AH13: =COUNTIF(B13:AF13,"P")+COUNTIF(B13:AF13,"B")+COUNTIF(B13:AF13,"A")
A14: =IF(Resumen!$A11="","",Resumen!$A11) | AG14: =COUNTIF(B14:AF14,"V")+COUNTIF(B14:AF14,"M")*0.5 | AH14: =COUNTIF(B14:AF14,"P")+COUNTIF(B14:AF14,"B")+COUNTIF(B14:AF14,"A")
A15: =IF(Resumen!$A12="","",Resumen!$A12) | AG15: =COUNTIF(B15:AF15,"V")+COUNTIF(B15:AF15,"M")*0.5 | AH15: =COUNTIF(B15:AF15,"P")+COUNTIF(B15:AF15,"B")+COUNTIF(B15:AF15,"A")
A16: =IF(Resumen!$A13="","",Resumen!$A13) | AG16: =COUNTIF(B16:AF16,"V")+COUNTIF(B16:AF16,"M")*0.5 | AH16: =COUNTIF(B16:AF16,"P")+COUNTIF(B16:AF16,"B")+COUNTIF(B16:AF16,"A")
A17: =IF(Resumen!$A14="","",Resumen!$A14) | AG17: =COUNTIF(B17:AF17,"V")+COUNTIF(B17:AF17,"M")*0.5 | AH17: =COUNTIF(B17:AF17,"P")+COUNTIF(B17:AF17,"B")+COUNTIF(B17:AF17,"A")
A18: =IF(Resumen!$A15="","",Resumen!$A15) | AG18: =COUNTIF(B18:AF18,"V")+COUNTIF(B18:AF18,"M")*0.5 | AH18: =COUNTIF(B18:AF18,"P")+COUNTIF(B18:AF18,"B")+COUNTIF(B18:AF18,"A")
A19: =IF(Resumen!$A16="","",Resumen!$A16) | AG19: =COUNTIF(B19:AF19,"V")+COUNTIF(B19:AF19,"M")*0.5 | AH19: =COUNTIF(B19:AF19,"P")+COUNTIF(B19:AF19,"B")+COUNTIF(B19:AF19,"A")
A20: =IF(Resumen!$A17="","",Resumen!$A17) | AG20: =COUNTIF(B20:AF20,"V")+COUNTIF(B20:AF20,"M")*0.5 | AH20: =COUNTIF(B20:AF20,"P")+COUNTIF(B20:AF20,"B")+COUNTIF(B20:AF20,"A")
... A48: =IF(Resumen!$A45="","",Resumen!$A45) | AG48: =COUNTIF(B48:AF48,"V")+COUNTIF(B48:AF48,"M")*0.5 | AH48: =COUNTIF(B48:AF48,"P")+COUNTIF(B48:AF48,"B")+COUNTIF(B48:AF48,"A")
A50: Faltan ese día | B50: =IF(B$5="","",COUNTIF(B$9:B$48,"?*")) | C50: =IF(C$5="","",COUNTIF(C$9:C$48,"?*")) | D50: =IF(D$5="","",COUNTIF(D$9:D$48,"?*")) | E50: =IF(E$5="","",COUNTIF(E$9:E$48,"?*")) | F50: =IF(F$5="","",COUNTIF(F$9:F$48,"?*")) | G50: =IF(G$5="","",COUNTIF(G$9:G$48,"?*")) | H50: =IF(H$5="","",COUNTIF(H$9:H$48,"?*")) | I50: =IF(I$5="","",COUNTIF(I$9:I$48,"?*")) | ... AF50: =IF(AF$5="","",COUNTIF(AF$9:AF$48,"?*"))
A51: Están ese día | B51: =IF(B$5="","",COUNTIF($A$9:$A$48,"?*")-B50) | C51: =IF(C$5="","",COUNTIF($A$9:$A$48,"?*")-C50) | D51: =IF(D$5="","",COUNTIF($A$9:$A$48,"?*")-D50) | E51: =IF(E$5="","",COUNTIF($A$9:$A$48,"?*")-E50) | F51: =IF(F$5="","",COUNTIF($A$9:$A$48,"?*")-F50) | G51: =IF(G$5="","",COUNTIF($A$9:$A$48,"?*")-G50) | H51: =IF(H$5="","",COUNTIF($A$9:$A$48,"?*")-H50) | I51: =IF(I$5="","",COUNTIF($A$9:$A$48,"?*")-I50) | ... AF51: =IF(AF$5="","",COUNTIF($A$9:$A$48,"?*")-AF50)
A53: Leyenda
A54: V · Vacaciones
A55: M · Medio día de vacaciones
A56: P · Permiso retribuido
A57: B · Baja médica
A58: A · Otra ausencia
A59: Festivo
A60: Sábado y domingo

Sheet Julio
A1: ="Julio "&Resumen!$B$2 | N1: Las vacaciones de todos, sin cruzar correos: pruébalo gratis en satcontrol.es
A2: Festivos de: | B2: =Resumen!$E$2
A3: Marca en cada día: V vacaciones · M medio día de vacaciones · P permiso retribuido · B baja médica · A otra ausencia. Los nombres salen de «Resumen».
A5: Empleado | B5: =IF(1<=DAY(EOMONTH(DATE(Resumen!$B$2,7,1),0)),1,"") | C5: =IF(2<=DAY(EOMONTH(DATE(Resumen!$B$2,7,1),0)),2,"") | D5: =IF(3<=DAY(EOMONTH(DATE(Resumen!$B$2,7,1),0)),3,"") | E5: =IF(4<=DAY(EOMONTH(DATE(Resumen!$B$2,7,1),0)),4,"") | F5: =IF(5<=DAY(EOMONTH(DATE(Resumen!$B$2,7,1),0)),5,"") | G5: =IF(6<=DAY(EOMONTH(DATE(Resumen!$B$2,7,1),0)),6,"") | H5: =IF(7<=DAY(EOMONTH(DATE(Resumen!$B$2,7,1),0)),7,"") | I5: =IF(8<=DAY(EOMONTH(DATE(Resumen!$B$2,7,1),0)),8,"") | J5: =IF(9<=DAY(EOMONTH(DATE(Resumen!$B$2,7,1),0)),9,"") | K5: =IF(10<=DAY(EOMONTH(DATE(Resumen!$B$2,7,1),0)),10,"") | L5: =IF(11<=DAY(EOMONTH(DATE(Resumen!$B$2,7,1),0)),11,"") | M5: =IF(12<=DAY(EOMONTH(DATE(Resumen!$B$2,7,1),0)),12,"") | N5: =IF(13<=DAY(EOMONTH(DATE(Resumen!$B$2,7,1),0)),13,"") | O5: =IF(14<=DAY(EOMONTH(DATE(Resumen!$B$2,7,1),0)),14,"") | P5: =IF(15<=DAY(EOMONTH(DATE(Resumen!$B$2,7,1),0)),15,"") | Q5: =IF(16<=DAY(EOMONTH(DATE(Resumen!$B$2,7,1),0)),16,"") | R5: =IF(17<=DAY(EOMONTH(DATE(Resumen!$B$2,7,1),0)),17,"") | S5: =IF(18<=DAY(EOMONTH(DATE(Resumen!$B$2,7,1),0)),18,"") | T5: =IF(19<=DAY(EOMONTH(DATE(Resumen!$B$2,7,1),0)),19,"") | U5: =IF(20<=DAY(EOMONTH(DATE(Resumen!$B$2,7,1),0)),20,"") | V5: =IF(21<=DAY(EOMONTH(DATE(Resumen!$B$2,7,1),0)),21,"") | W5: =IF(22<=DAY(EOMONTH(DATE(Resumen!$B$2,7,1),0)),22,"") | X5: =IF(23<=DAY(EOMONTH(DATE(Resumen!$B$2,7,1),0)),23,"") | Y5: =IF(24<=DAY(EOMONTH(DATE(Resumen!$B$2,7,1),0)),24,"") | Z5: =IF(25<=DAY(EOMONTH(DATE(Resumen!$B$2,7,1),0)),25,"") | AA5: =IF(26<=DAY(EOMONTH(DATE(Resumen!$B$2,7,1),0)),26,"") | AB5: =IF(27<=DAY(EOMONTH(DATE(Resumen!$B$2,7,1),0)),27,"") | AC5: =IF(28<=DAY(EOMONTH(DATE(Resumen!$B$2,7,1),0)),28,"") | AD5: =IF(29<=DAY(EOMONTH(DATE(Resumen!$B$2,7,1),0)),29,"") | AE5: =IF(30<=DAY(EOMONTH(DATE(Resumen!$B$2,7,1),0)),30,"") | AF5: =IF(31<=DAY(EOMONTH(DATE(Resumen!$B$2,7,1),0)),31,"") | AG5: Vacaciones | AH5: Ausencias
B6: =IF(B$5="","",MID("LMXJVSD",WEEKDAY(DATE(Resumen!$B$2,7,B$5),2),1)) | C6: =IF(C$5="","",MID("LMXJVSD",WEEKDAY(DATE(Resumen!$B$2,7,C$5),2),1)) | D6: =IF(D$5="","",MID("LMXJVSD",WEEKDAY(DATE(Resumen!$B$2,7,D$5),2),1)) | E6: =IF(E$5="","",MID("LMXJVSD",WEEKDAY(DATE(Resumen!$B$2,7,E$5),2),1)) | F6: =IF(F$5="","",MID("LMXJVSD",WEEKDAY(DATE(Resumen!$B$2,7,F$5),2),1)) | G6: =IF(G$5="","",MID("LMXJVSD",WEEKDAY(DATE(Resumen!$B$2,7,G$5),2),1)) | H6: =IF(H$5="","",MID("LMXJVSD",WEEKDAY(DATE(Resumen!$B$2,7,H$5),2),1)) | I6: =IF(I$5="","",MID("LMXJVSD",WEEKDAY(DATE(Resumen!$B$2,7,I$5),2),1)) | ... AF6: =IF(AF$5="","",MID("LMXJVSD",WEEKDAY(DATE(Resumen!$B$2,7,AF$5),2),1))
A7: Festivo | B7: =IF(B$5="","",IF(COUNTIFS(Festivos!$A$5:$A$239,Resumen!$E$2,Festivos!$B$5:$B$239,DATE(Resumen!$B$2,7,B$5))+COUNTIF(Festivos!$E$5:$E$24,DATE(Resumen!$B$2,7,B$5))>0,"F","")) | C7: =IF(C$5="","",IF(COUNTIFS(Festivos!$A$5:$A$239,Resumen!$E$2,Festivos!$B$5:$B$239,DATE(Resumen!$B$2,7,C$5))+COUNTIF(Festivos!$E$5:$E$24,DATE(Resumen!$B$2,7,C$5))>0,"F","")) | D7: =IF(D$5="","",IF(COUNTIFS(Festivos!$A$5:$A$239,Resumen!$E$2,Festivos!$B$5:$B$239,DATE(Resumen!$B$2,7,D$5))+COUNTIF(Festivos!$E$5:$E$24,DATE(Resumen!$B$2,7,D$5))>0,"F","")) | E7: =IF(E$5="","",IF(COUNTIFS(Festivos!$A$5:$A$239,Resumen!$E$2,Festivos!$B$5:$B$239,DATE(Resumen!$B$2,7,E$5))+COUNTIF(Festivos!$E$5:$E$24,DATE(Resumen!$B$2,7,E$5))>0,"F","")) | F7: =IF(F$5="","",IF(COUNTIFS(Festivos!$A$5:$A$239,Resumen!$E$2,Festivos!$B$5:$B$239,DATE(Resumen!$B$2,7,F$5))+COUNTIF(Festivos!$E$5:$E$24,DATE(Resumen!$B$2,7,F$5))>0,"F","")) | G7: =IF(G$5="","",IF(COUNTIFS(Festivos!$A$5:$A$239,Resumen!$E$2,Festivos!$B$5:$B$239,DATE(Resumen!$B$2,7,G$5))+COUNTIF(Festivos!$E$5:$E$24,DATE(Resumen!$B$2,7,G$5))>0,"F","")) | H7: =IF(H$5="","",IF(COUNTIFS(Festivos!$A$5:$A$239,Resumen!$E$2,Festivos!$B$5:$B$239,DATE(Resumen!$B$2,7,H$5))+COUNTIF(Festivos!$E$5:$E$24,DATE(Resumen!$B$2,7,H$5))>0,"F","")) | I7: =IF(I$5="","",IF(COUNTIFS(Festivos!$A$5:$A$239,Resumen!$E$2,Festivos!$B$5:$B$239,DATE(Resumen!$B$2,7,I$5))+COUNTIF(Festivos!$E$5:$E$24,DATE(Resumen!$B$2,7,I$5))>0,"F","")) | ... AF7: =IF(AF$5="","",IF(COUNTIFS(Festivos!$A$5:$A$239,Resumen!$E$2,Festivos!$B$5:$B$239,DATE(Resumen!$B$2,7,AF$5))+COUNTIF(Festivos!$E$5:$E$24,DATE(Resumen!$B$2,7,AF$5))>0,"F",""))
A9: =IF(Resumen!$A6="","",Resumen!$A6) | AG9: =COUNTIF(B9:AF9,"V")+COUNTIF(B9:AF9,"M")*0.5 | AH9: =COUNTIF(B9:AF9,"P")+COUNTIF(B9:AF9,"B")+COUNTIF(B9:AF9,"A")
A10: =IF(Resumen!$A7="","",Resumen!$A7) | AG10: =COUNTIF(B10:AF10,"V")+COUNTIF(B10:AF10,"M")*0.5 | AH10: =COUNTIF(B10:AF10,"P")+COUNTIF(B10:AF10,"B")+COUNTIF(B10:AF10,"A")
A11: =IF(Resumen!$A8="","",Resumen!$A8) | AG11: =COUNTIF(B11:AF11,"V")+COUNTIF(B11:AF11,"M")*0.5 | AH11: =COUNTIF(B11:AF11,"P")+COUNTIF(B11:AF11,"B")+COUNTIF(B11:AF11,"A")
A12: =IF(Resumen!$A9="","",Resumen!$A9) | AG12: =COUNTIF(B12:AF12,"V")+COUNTIF(B12:AF12,"M")*0.5 | AH12: =COUNTIF(B12:AF12,"P")+COUNTIF(B12:AF12,"B")+COUNTIF(B12:AF12,"A")
A13: =IF(Resumen!$A10="","",Resumen!$A10) | AG13: =COUNTIF(B13:AF13,"V")+COUNTIF(B13:AF13,"M")*0.5 | AH13: =COUNTIF(B13:AF13,"P")+COUNTIF(B13:AF13,"B")+COUNTIF(B13:AF13,"A")
